BEGIN:VCALENDAR
VERSION:2.0
PRODID:-//adn. Asturies deporte y naturaleza - ECPv6.15.11//NONSGML v1.0//EN
CALSCALE:GREGORIAN
METHOD:PUBLISH
X-WR-CALNAME:adn. Asturies deporte y naturaleza
X-ORIGINAL-URL:https://adnasturies.com
X-WR-CALDESC:Events for adn. Asturies deporte y naturaleza
REFRESH-INTERVAL;VALUE=DURATION:PT1H
X-Robots-Tag:noindex
X-PUBLISHED-TTL:PT1H
BEGIN:VTIMEZONE
TZID:Europe/Madrid
BEGIN:DAYLIGHT
TZOFFSETFROM:+0100
TZOFFSETTO:+0200
TZNAME:CEST
DTSTART:20240331T010000
END:DAYLIGHT
BEGIN:STANDARD
TZOFFSETFROM:+0200
TZOFFSETTO:+0100
TZNAME:CET
DTSTART:20241027T010000
END:STANDARD
BEGIN:DAYLIGHT
TZOFFSETFROM:+0100
TZOFFSETTO:+0200
TZNAME:CEST
DTSTART:20250330T010000
END:DAYLIGHT
BEGIN:STANDARD
TZOFFSETFROM:+0200
TZOFFSETTO:+0100
TZNAME:CET
DTSTART:20251026T010000
END:STANDARD
BEGIN:DAYLIGHT
TZOFFSETFROM:+0100
TZOFFSETTO:+0200
TZNAME:CEST
DTSTART:20260329T010000
END:DAYLIGHT
BEGIN:STANDARD
TZOFFSETFROM:+0200
TZOFFSETTO:+0100
TZNAME:CET
DTSTART:20261025T010000
END:STANDARD
END:VTIMEZONE
BEGIN:VEVENT
DTSTART;VALUE=DATE:20250914
DTEND;VALUE=DATE:20250915
DTSTAMP:20260421T201324
CREATED:20250811T084631Z
LAST-MODIFIED:20250811T084631Z
UID:7373-1757808000-1757894399@adnasturies.com
SUMMARY:«Veranu en Payares». Alpinismu en Payares
DESCRIPTION:La estación de Valgrande-Payares presenta una edición nueva de «Veranu en Payares»\, una programación completa d’actividaes gratuites diseñaes pa fomentar el contactu cola naturaleza\, la educación ambiental y el disfrute activu del entornu. Dirixíes a tolos públicos\, estes propuestes al aire llibre compleméntense con delles actividaes culturales y lúdiques que prometen facer d’esti branu una esperiencia inigualable nel monte asturianu. \nAnguaño\, «Veranu en Payares» garra una relevancia especial al celebrase nel marcu de la designación d’Asturies como Rexón Europea del Deporte 2025. Esta distinción\, que s’encuadra dientro del programa ADN Asturies Deporte y Naturaleza\, va tar presente en tola programación d’esta edición nueva de «Veranu en Payares»\, reafirmando’l compromisu col deporte y la vida al aire llibre. \nAmás\, «Veranu en Payares» arriquezse col primer Festival de Monte\, que se va facer el 5 de xunetu. Esti eventu pioneru va combinar actividaes deportives con un mercáu tradicional\, espectáculos infantiles y un conciertu que va fusionar la música tradicional asturiana con soníos más actuales\, creando una atmósfera festiva y única. \nAlpinismu en Payares \nEmbárcate en rutes guiaes de 5 a 12 km con un desnivel d’hasta 500 m\, esplorando la historia\, cultura y naturaleza de paraxes como’l Parque Natural de Penubina-La Mesa. Acompañáu por un guía\, vas disfrutar del entornu al to ritmu\, ideal pa tolos públicos y ensin falta d’esperiencia previa. \nInscripciones
URL:https://adnasturies.com/ast/evento/veranu-en-payares-alpinismu-en-payares-2/
LOCATION:Valgrande-Payares\, Asturias\, Spain
CATEGORIES:Deporte
ATTACH;FMTTYPE=image/jpeg:https://adnasturies.com/wp-content/uploads/2025/06/cartel-veranu-en-payares-2025-1.jpg
END:VEVENT
END:VCALENDAR