BEGIN:VCALENDAR
VERSION:2.0
PRODID:-//adn. Asturies deporte y naturaleza - ECPv6.15.11//NONSGML v1.0//EN
CALSCALE:GREGORIAN
METHOD:PUBLISH
X-WR-CALNAME:adn. Asturies deporte y naturaleza
X-ORIGINAL-URL:https://adnasturies.com
X-WR-CALDESC:Events for adn. Asturies deporte y naturaleza
REFRESH-INTERVAL;VALUE=DURATION:PT1H
X-Robots-Tag:noindex
X-PUBLISHED-TTL:PT1H
BEGIN:VTIMEZONE
TZID:Europe/Madrid
BEGIN:DAYLIGHT
TZOFFSETFROM:+0100
TZOFFSETTO:+0200
TZNAME:CEST
DTSTART:20240331T010000
END:DAYLIGHT
BEGIN:STANDARD
TZOFFSETFROM:+0200
TZOFFSETTO:+0100
TZNAME:CET
DTSTART:20241027T010000
END:STANDARD
BEGIN:DAYLIGHT
TZOFFSETFROM:+0100
TZOFFSETTO:+0200
TZNAME:CEST
DTSTART:20250330T010000
END:DAYLIGHT
BEGIN:STANDARD
TZOFFSETFROM:+0200
TZOFFSETTO:+0100
TZNAME:CET
DTSTART:20251026T010000
END:STANDARD
BEGIN:DAYLIGHT
TZOFFSETFROM:+0100
TZOFFSETTO:+0200
TZNAME:CEST
DTSTART:20260329T010000
END:DAYLIGHT
BEGIN:STANDARD
TZOFFSETFROM:+0200
TZOFFSETTO:+0100
TZNAME:CET
DTSTART:20261025T010000
END:STANDARD
END:VTIMEZONE
BEGIN:VEVENT
DTSTART;VALUE=DATE:20250914
DTEND;VALUE=DATE:20250915
DTSTAMP:20260421T194647
CREATED:20250811T084834Z
LAST-MODIFIED:20250811T084834Z
UID:7375-1757808000-1757894399@adnasturies.com
SUMMARY:«Veranu en Payares». Montañismo en Payares
DESCRIPTION:A estación de Valgrande-Payares presenta úa nova edición de «Veranu en Payares»\, úa programación completa d’actividades gratuítas diseñadas pra fomentar el contacto cua naturaleza\, a educación ambiental y el goce activo da contornada. Dirixidas a todos os públicos\, estas propostas al aire llibre compleméntanse con dalgúas actividades culturales y ldicas que prometen fer d’este brao úa esperiencia inigualable nel monte asturiano. \n  \nEste ano\, «Veranu en Payares» coye úa relevancia especial al celebrarse nel marco da designación d’Asturias como Rexón Europea del Deporte 2025. Esta distinción\, que s’enmarca dentro del programa ADN Asturias Deporte y Naturaleza\, ha a tar presente en toda a programación d’esta edición nova de «Veranu en Payares»\, reafirmando el compromiso col deporte y a vida al aire llibre. \nAdemáis\, «Veranu en Payares» enriquécese col primeiro Festival de Monte\, qu’ha a ferse el 5 de xuyín. Este evento pioneiro ha a combinar actividades deportivas con un mercao tradicional\, espectáculos infantiles y un concerto qu’ha a fusionar a música tradicional asturiana con sois máis actuales\, creando úa atmosfera festiva y única. \n  \nMontañismo en Payares \nEmbárcate en rutas guiadas de 5 a 12 km con un desnivel d’hasta 500 m\, esplorando a historia\, cultura y naturaleza de paraxes como el Parque Natural de Penubina-La Mesa. Acompañao por un guía\, has a gozar da contornada al tou ritmo\, ideal pra todos os públicos y sin falta d’esperiencia previa. \nInscripcióis
URL:https://adnasturies.com/eo/evento/veranu-en-payares-montanismo-en-payares/
LOCATION:Valgrande-Payares\, Asturias\, Spain
CATEGORIES:Deporte
ATTACH;FMTTYPE=image/jpeg:https://adnasturies.com/wp-content/uploads/2025/06/cartel-veranu-en-payares-2025-1.jpg
END:VEVENT
END:VCALENDAR