BEGIN:VCALENDAR
VERSION:2.0
PRODID:-//adn. Asturies deporte y naturaleza - ECPv6.15.11//NONSGML v1.0//EN
CALSCALE:GREGORIAN
METHOD:PUBLISH
X-WR-CALNAME:adn. Asturies deporte y naturaleza
X-ORIGINAL-URL:https://adnasturies.com
X-WR-CALDESC:Events for adn. Asturies deporte y naturaleza
REFRESH-INTERVAL;VALUE=DURATION:PT1H
X-Robots-Tag:noindex
X-PUBLISHED-TTL:PT1H
BEGIN:VTIMEZONE
TZID:Europe/Madrid
BEGIN:DAYLIGHT
TZOFFSETFROM:+0100
TZOFFSETTO:+0200
TZNAME:CEST
DTSTART:20240331T010000
END:DAYLIGHT
BEGIN:STANDARD
TZOFFSETFROM:+0200
TZOFFSETTO:+0100
TZNAME:CET
DTSTART:20241027T010000
END:STANDARD
BEGIN:DAYLIGHT
TZOFFSETFROM:+0100
TZOFFSETTO:+0200
TZNAME:CEST
DTSTART:20250330T010000
END:DAYLIGHT
BEGIN:STANDARD
TZOFFSETFROM:+0200
TZOFFSETTO:+0100
TZNAME:CET
DTSTART:20251026T010000
END:STANDARD
BEGIN:DAYLIGHT
TZOFFSETFROM:+0100
TZOFFSETTO:+0200
TZNAME:CEST
DTSTART:20260329T010000
END:DAYLIGHT
BEGIN:STANDARD
TZOFFSETFROM:+0200
TZOFFSETTO:+0100
TZNAME:CET
DTSTART:20261025T010000
END:STANDARD
END:VTIMEZONE
BEGIN:VEVENT
DTSTART;VALUE=DATE:20250831
DTEND;VALUE=DATE:20250901
DTSTAMP:20260422T041648
CREATED:20250811T100223Z
LAST-MODIFIED:20250811T100223Z
UID:7443-1756598400-1756684799@adnasturies.com
SUMMARY:«Veranu en Payares». Ruta y Clínic de Bici de Monte
DESCRIPTION:A estación de Valgrande-Payares presenta úa nova edición de «Veranu en Payares»\, úa programación completa d’actividades gratuítas diseñadas pra fomentar el contacto cua naturaleza\, a educación ambiental y el goce activo da contornada. Dirixidas a todos os públicos\, estas propostas al aire llibre compleméntanse con dalgúas actividades culturales y lúdicas que prometen fer d’este brao úa esperiencia inigualable nel monte asturiano. \nEste ano\, «Veranu en Payares» coye úa relevancia especial al celebrarse nel marco da designación d’Asturias como Rexón Europea del Deporte 2025. Esta distinción\, que s’enmarca dentro del programa ADN Asturias Deporte y Naturaleza\, ha a tar presente en toda a programación d’esta edición nova de «Veranu en Payares»\, reafirmando el compromiso col deporte y a vida al aire llibre. \nAdemáis\, «Veranu en Payares» enriquécese col primeiro Festival de Monte\, qu’ha a ferse el 5 de xuyín. Este evento pioneiro ha a combinar actividades deportivas con un mercao tradicional\, espectáculos infantiles y un concerto qu’ha a fusionar a música tradicional asturiana con sois máis actuales\, creando úa atmosfera festiva y única. \n  \nRuta y clínic de bici de monte \nAprende a dominar a túa bicicleta de monte en rutas guiadas por Payares\, combinando diversión y aprendizaxe de técnicas básicas de conducción. Has a ganar fiúnza y seguranza pra pedaliar en camíos de terra\, mentres gozas dos paisaxes. Trai a túa propia bici y prepárate pra miyorar as túas habilidades. \n  \nInscripcióis
URL:https://adnasturies.com/eo/evento/veranu-en-payares-ruta-y-clinic-de-bici-de-monte-4/
CATEGORIES:Deporte
ATTACH;FMTTYPE=image/jpeg:https://adnasturies.com/wp-content/uploads/2025/06/cartel-veranu-en-payares-2025-1.jpg
END:VEVENT
END:VCALENDAR