BEGIN:VCALENDAR
VERSION:2.0
PRODID:-//adn. Asturies deporte y naturaleza - ECPv6.15.11//NONSGML v1.0//EN
CALSCALE:GREGORIAN
METHOD:PUBLISH
X-WR-CALNAME:adn. Asturies deporte y naturaleza
X-ORIGINAL-URL:https://adnasturies.com
X-WR-CALDESC:Eventos para adn. Asturies deporte y naturaleza
REFRESH-INTERVAL;VALUE=DURATION:PT1H
X-Robots-Tag:noindex
X-PUBLISHED-TTL:PT1H
BEGIN:VTIMEZONE
TZID:Europe/Madrid
BEGIN:DAYLIGHT
TZOFFSETFROM:+0100
TZOFFSETTO:+0200
TZNAME:CEST
DTSTART:20240331T010000
END:DAYLIGHT
BEGIN:STANDARD
TZOFFSETFROM:+0200
TZOFFSETTO:+0100
TZNAME:CET
DTSTART:20241027T010000
END:STANDARD
BEGIN:DAYLIGHT
TZOFFSETFROM:+0100
TZOFFSETTO:+0200
TZNAME:CEST
DTSTART:20250330T010000
END:DAYLIGHT
BEGIN:STANDARD
TZOFFSETFROM:+0200
TZOFFSETTO:+0100
TZNAME:CET
DTSTART:20251026T010000
END:STANDARD
BEGIN:DAYLIGHT
TZOFFSETFROM:+0100
TZOFFSETTO:+0200
TZNAME:CEST
DTSTART:20260329T010000
END:DAYLIGHT
BEGIN:STANDARD
TZOFFSETFROM:+0200
TZOFFSETTO:+0100
TZNAME:CET
DTSTART:20261025T010000
END:STANDARD
END:VTIMEZONE
BEGIN:VEVENT
DTSTART;VALUE=DATE:20250809
DTEND;VALUE=DATE:20250810
DTSTAMP:20260422T024355
CREATED:20250721T072632Z
LAST-MODIFIED:20250809T100242Z
UID:5909-1754697600-1754783999@adnasturies.com
SUMMARY:Roller freestyle. Salinas
DESCRIPTION:El sábado 9 de agosto es la tercera quedada de Roller Freestyle Asturias\, en el skatepark de Salinas.
URL:https://adnasturies.com/evento/roller-freestyle-salinas/
CATEGORIES:Deporte
ATTACH;FMTTYPE=image/jpeg:https://adnasturies.com/wp-content/uploads/2025/07/g5c889ba906f9dca9a04585e3f54e13c4ca8a8aedcaeff87af33d078bff415631509fd0d7a8435353d30ea00ba2671d31fa79e57d7bbe52f931cc9eae50211039_1280-7111146.jpg
END:VEVENT
END:VCALENDAR