BEGIN:VCALENDAR
VERSION:2.0
PRODID:-//adn. Asturies deporte y naturaleza - ECPv6.15.11//NONSGML v1.0//EN
CALSCALE:GREGORIAN
METHOD:PUBLISH
X-WR-CALNAME:adn. Asturies deporte y naturaleza
X-ORIGINAL-URL:https://adnasturies.com
X-WR-CALDESC:Eventos para adn. Asturies deporte y naturaleza
REFRESH-INTERVAL;VALUE=DURATION:PT1H
X-Robots-Tag:noindex
X-PUBLISHED-TTL:PT1H
BEGIN:VTIMEZONE
TZID:Europe/Madrid
BEGIN:DAYLIGHT
TZOFFSETFROM:+0100
TZOFFSETTO:+0200
TZNAME:CEST
DTSTART:20240331T010000
END:DAYLIGHT
BEGIN:STANDARD
TZOFFSETFROM:+0200
TZOFFSETTO:+0100
TZNAME:CET
DTSTART:20241027T010000
END:STANDARD
BEGIN:DAYLIGHT
TZOFFSETFROM:+0100
TZOFFSETTO:+0200
TZNAME:CEST
DTSTART:20250330T010000
END:DAYLIGHT
BEGIN:STANDARD
TZOFFSETFROM:+0200
TZOFFSETTO:+0100
TZNAME:CET
DTSTART:20251026T010000
END:STANDARD
BEGIN:DAYLIGHT
TZOFFSETFROM:+0100
TZOFFSETTO:+0200
TZNAME:CEST
DTSTART:20260329T010000
END:DAYLIGHT
BEGIN:STANDARD
TZOFFSETFROM:+0200
TZOFFSETTO:+0100
TZNAME:CET
DTSTART:20261025T010000
END:STANDARD
END:VTIMEZONE
BEGIN:VEVENT
DTSTART;VALUE=DATE:20250906
DTEND;VALUE=DATE:20250907
DTSTAMP:20260422T040009
CREATED:20250627T093407Z
LAST-MODIFIED:20250809T101020Z
UID:5434-1757116800-1757203199@adnasturies.com
SUMMARY:«Veranu en Payares». Geocaching y Rastreo en Familia
DESCRIPTION:La estación de Valgrande-Pajares presenta una nueva edición de «Veranu en Payares»\, una completa programación de actividades gratuitas diseñadas para fomentar el contacto con la naturaleza\, la educación ambiental y el disfrute activo del entorno. Dirigidas a todos los públicos\, estas propuestas al aire libre se complementan con diversas actividades culturales y lúdicas que prometen hacer de este verano una experiencia inigualable en la montaña asturiana. \n\nEste año\, «Veranu en Payares» cobra especial relevancia al celebrarse en el marco de la designación de Asturias como Región Europea del Deporte 2025. Esta distinción\, que se enmarca dentro del programa ADN Asturias Deporte y Naturaleza\, estará presente en toda la programación de esta nueva edición de «Veranu en Payares»\, reafirmando el compromiso con el deporte y la vida al aire libre. \n\nAdemás\, «Veranu en Payares» se enriquece con el primer Festival de Montaña\, que tendrá lugar el 5 de julio. Este evento pionero combinará actividades deportivas con un mercáu tradicional\, espectáculos infantiles y un concierto que fusionará la música tradicional asturiana con sonidos más actuales\, creando una atmósfera festiva y única. \n\nGeocaching y rastreo en familia \nParticipa en un juego de exploración familiar en la naturaleza de Pajares\, buscando «tesoros» ocultos con GPS y aprendiendo a rastrear. Fomenta el trabajo en equipo\, la orientación y la observación\, descubriendo la fauna y los secretos de la montaña. Ideal para familias con niños a partir de 6 años\, sin experiencia previa. \n  \nInscripciones
URL:https://adnasturies.com/evento/veranu-en-payares-geocaching-y-rastreo-en-familia-septiembre/
LOCATION:Valgrande-Pajares\, Brañillin\, s/n\, Pajares\, Asturias\, 33693\, Spain
CATEGORIES:Deporte
ATTACH;FMTTYPE=image/jpeg:https://adnasturies.com/wp-content/uploads/2025/06/cartel-veranu-en-payares-2025-1.jpg
END:VEVENT
END:VCALENDAR