BEGIN:VCALENDAR
VERSION:2.0
PRODID:-//adn. Asturies deporte y naturaleza - ECPv6.15.11//NONSGML v1.0//EN
CALSCALE:GREGORIAN
METHOD:PUBLISH
X-WR-CALNAME:adn. Asturies deporte y naturaleza
X-ORIGINAL-URL:https://adnasturies.com
X-WR-CALDESC:Eventos para adn. Asturies deporte y naturaleza
REFRESH-INTERVAL;VALUE=DURATION:PT1H
X-Robots-Tag:noindex
X-PUBLISHED-TTL:PT1H
BEGIN:VTIMEZONE
TZID:Europe/Madrid
BEGIN:DAYLIGHT
TZOFFSETFROM:+0100
TZOFFSETTO:+0200
TZNAME:CEST
DTSTART:20240331T010000
END:DAYLIGHT
BEGIN:STANDARD
TZOFFSETFROM:+0200
TZOFFSETTO:+0100
TZNAME:CET
DTSTART:20241027T010000
END:STANDARD
BEGIN:DAYLIGHT
TZOFFSETFROM:+0100
TZOFFSETTO:+0200
TZNAME:CEST
DTSTART:20250330T010000
END:DAYLIGHT
BEGIN:STANDARD
TZOFFSETFROM:+0200
TZOFFSETTO:+0100
TZNAME:CET
DTSTART:20251026T010000
END:STANDARD
BEGIN:DAYLIGHT
TZOFFSETFROM:+0100
TZOFFSETTO:+0200
TZNAME:CEST
DTSTART:20260329T010000
END:DAYLIGHT
BEGIN:STANDARD
TZOFFSETFROM:+0200
TZOFFSETTO:+0100
TZNAME:CET
DTSTART:20261025T010000
END:STANDARD
END:VTIMEZONE
BEGIN:VEVENT
DTSTART;VALUE=DATE:20251219
DTEND;VALUE=DATE:20251221
DTSTAMP:20260421T200837
CREATED:20250730T111930Z
LAST-MODIFIED:20251219T125901Z
UID:10000325-1766102400-1766275199@adnasturies.com
SUMMARY:Liga de Boxeo femenino Iberdrola
DESCRIPTION:
URL:https://adnasturies.com/evento/copa-iberdrola-de-boxeo/
LOCATION:Pabellón de Deportes Mata-Jove/Xove\, Plaza Club Patín Gijón Solimar\, s/n\, Gijon-Oeste\, Gijón\, Asturias\, 33213\, Spain
CATEGORIES:Deporte
ATTACH;FMTTYPE=image/jpeg:https://adnasturies.com/wp-content/uploads/2025/07/boxeo.jpg
END:VEVENT
BEGIN:VEVENT
DTSTART;VALUE=DATE:20251213
DTEND;VALUE=DATE:20251214
DTSTAMP:20260421T200837
CREATED:20250730T105417Z
LAST-MODIFIED:20250809T103015Z
UID:10000324-1765584000-1765670399@adnasturies.com
SUMMARY:Foro Xunta Pol Deporte Tradicional
DESCRIPTION:Deporte Tradicional
URL:https://adnasturies.com/evento/foro-xunta-pol-deporte-tradicional/
LOCATION:Pravia\, Asturias\, Spain
CATEGORIES:Foros Adn
ATTACH;FMTTYPE=image/jpeg:https://adnasturies.com/wp-content/uploads/2025/07/adn-asturies-deporte-naturaleza-foro-deporte-tradicional.jpg
END:VEVENT
BEGIN:VEVENT
DTSTART;VALUE=DATE:20251128
DTEND;VALUE=DATE:20251129
DTSTAMP:20260421T200837
CREATED:20250730T105043Z
LAST-MODIFIED:20250809T102743Z
UID:10000322-1764288000-1764374399@adnasturies.com
SUMMARY:Foro Liga vs Racismo
DESCRIPTION:Deportes sin odio
URL:https://adnasturies.com/evento/foro-liga-vs-racismo/
LOCATION:Real Federación de Fútbol del Principado de Asturias\, C. César Maese Alonso\, 560\, Periurbano - Rural\, Gijón\, Asturias\, 33209\, Spain
CATEGORIES:Foros Adn
ATTACH;FMTTYPE=image/jpeg:https://adnasturies.com/wp-content/uploads/2025/07/adn-asturies-deporte-naturaleza-foro-envejecimiento-liga-racismo.jpg
END:VEVENT
BEGIN:VEVENT
DTSTART;VALUE=DATE:20251124
DTEND;VALUE=DATE:20251125
DTSTAMP:20260421T200837
CREATED:20250730T102110Z
LAST-MODIFIED:20250809T102732Z
UID:10000305-1763942400-1764028799@adnasturies.com
SUMMARY:Prevención de acoso y creación de espacios seguros
DESCRIPTION:Charla: La responsabilidad de los clubes\, federaciones\, entrenadores y monitores en la creación de entornos seguros y protectores para los deportistas menores de edad. \n\n\n\n\n\n\n\n\n\n\n\n\nObjetivo: El objetivo principal de esta charla es destacar y clarificar la responsabilidad que tienen los clubes deportivos\, las federaciones\, los entrenadores y los monitores en la creación de entornos seguros y protectores para los deportistas menores de edad. Se centra en la importancia de establecer un marco de actuación que garantice el bienestar físico\, psicológico y emocional de los jóvenes atletas\, previniendo y abordando situaciones de riesgo o vulneración de sus derechos. Legislación\, prevención\, responsabilidad…
URL:https://adnasturies.com/evento/prevencion-de-acoso-y-creacion-de-espacios-seguros/
LOCATION:Casa de la Cultura San Martin del Rey Aurelio\, Manuel García Vigil\, 16\, L'Entregu /El Entrego\, Asturias\, 33940\, Spain
CATEGORIES:Aula Abierta
ATTACH;FMTTYPE=image/jpeg:https://adnasturies.com/wp-content/uploads/2025/07/aula-abierta-espacios-seguros-e1757576968549.jpg
END:VEVENT
BEGIN:VEVENT
DTSTART;VALUE=DATE:20251117
DTEND;VALUE=DATE:20251118
DTSTAMP:20260421T200837
CREATED:20250730T105254Z
LAST-MODIFIED:20250809T102642Z
UID:10000323-1763337600-1763423999@adnasturies.com
SUMMARY:Foro Deporte Adaptado II
DESCRIPTION:Deporte adaptado
URL:https://adnasturies.com/evento/foro-deporte-adaptado-ii/
LOCATION:Castropol\, Castropol\, Asturias\, 33760\, Spain
CATEGORIES:Foros Adn
ATTACH;FMTTYPE=image/jpeg:https://adnasturies.com/wp-content/uploads/2025/07/adn-asturies-deporte-naturaleza-foro-deporte-adaptado-2.jpg
END:VEVENT
BEGIN:VEVENT
DTSTART;VALUE=DATE:20251104
DTEND;VALUE=DATE:20251105
DTSTAMP:20260421T200837
CREATED:20250730T101806Z
LAST-MODIFIED:20250809T102503Z
UID:10000304-1762214400-1762300799@adnasturies.com
SUMMARY:Deporte y Discapacidad
DESCRIPTION:Charla: Diseño universal aplicado al deporte: cómo crear instalaciones y programas deportivos accesibles para todos. \n\n\n\n\n\n\n\n\n\n\n\n\nObjetivo: Con esta ponencia sobre Diseño Universal aplicado al deporte se busca promover la creación de instalaciones y programas deportivos que sean accesibles para todas las personas\, independientemente de sus capacidades. Se centra en la importancia de diseñar espacios y actividades deportivas que puedan ser utilizados por el mayor número posible de personas\, sin necesidad de adaptaciones o diseños especializados.
URL:https://adnasturies.com/evento/deporte-y-discapacidad/
LOCATION:Casa de Cultura de Tapia\, Casa de la Cultura\, Plaza del mercado\, nº1\, Tapia de Casariego\, Asturias\, 33740\, Spain
CATEGORIES:Aula Abierta
ATTACH;FMTTYPE=image/jpeg:https://adnasturies.com/wp-content/uploads/2025/07/aula-abierta-deporte-discapacidad.jpg
END:VEVENT
BEGIN:VEVENT
DTSTART;TZID=Europe/Madrid:20251016T100000
DTEND;TZID=Europe/Madrid:20251016T180000
DTSTAMP:20260421T200837
CREATED:20250730T104835Z
LAST-MODIFIED:20251014T115051Z
UID:10000321-1760608800-1760637600@adnasturies.com
SUMMARY:Foro Asturactiva
DESCRIPTION:Efectos del deporte en la salud.
URL:https://adnasturies.com/evento/foro-asturactiva/
LOCATION:Centro de Innovación y Desarrollo Alto Nalón (CIDAN)\, Calle Joaquín Iglesias s/n\, Laviana\, Asturias\, 33980\, Spain
CATEGORIES:Foros Adn
ATTACH;FMTTYPE=image/jpeg:https://adnasturies.com/wp-content/uploads/2025/07/adn-asturies-deporte-naturaleza-foro-envejecimiento-salud.jpg
END:VEVENT
BEGIN:VEVENT
DTSTART;VALUE=DATE:20251009
DTEND;VALUE=DATE:20251010
DTSTAMP:20260421T200837
CREATED:20250730T101544Z
LAST-MODIFIED:20251007T090343Z
UID:10000303-1759968000-1760054399@adnasturies.com
SUMMARY:Psicología y Desarrollo Personal en el Deporte
DESCRIPTION:Charla: La importancia de la comunicación efectiva entre los entrenadores\, clubes\, deportistas y familiares. \n\n\n\n\n\n\n\n\n\n\n\n\nObjetivo: Esta exposición tiene como objetivo principal destacar el papel fundamental que juega la comunicación en el éxito deportivo y el bienestar de todos los implicados. Se centra en analizar cómo una comunicación clara\, abierta y respetuosa puede mejorar el rendimiento\, fortalecer las relaciones y crear un ambiente positivo en el deporte. \n \n 
URL:https://adnasturies.com/evento/psicologia-y-desarrollo-personal-en-el-deporte/
LOCATION:Centro Polivalente Integrado (CPI) de Lugones\, C. de Leopoldo Lugones\, 31\, Lugones\, Asturias\, 33420\, Spain
CATEGORIES:Aula Abierta
ATTACH;FMTTYPE=image/jpeg:https://adnasturies.com/wp-content/uploads/2025/07/Psicologia-y-Desarrollo-Personal-en-el-Deporte.jpg
END:VEVENT
BEGIN:VEVENT
DTSTART;VALUE=DATE:20251002
DTEND;VALUE=DATE:20251003
DTSTAMP:20260421T200837
CREATED:20250730T101237Z
LAST-MODIFIED:20250809T101731Z
UID:10000302-1759363200-1759449599@adnasturies.com
SUMMARY:Aspectos Legales y de Gestión Deportiva
DESCRIPTION:Charla: Legislación deportiva actual en Asturias y a nivel nacional: derechos y obligaciones de clubes\, deportistas y técnicos. \n\n\n\n\n\n\n\n\n\n\n\n\nObjetivo: La formación en legislación deportiva\, tanto en Asturias como a nivel nacional\, tiene como objetivo principal proporcionar unos conocimientos elementales y actualizados del marco legal que regula el deporte. Esto incluye las leyes\, reglamentos y normativas que establecen los derechos y obligaciones de los diferentes actores del ámbito deportivo: clubes\, deportistas\, técnicos\, árbitros\, etc.
URL:https://adnasturies.com/evento/aspectos-legales-y-de-gestion-deportiva/
LOCATION:Edificio Científico -Tecnológico del Campus de Mieres.\, Barrio Barredo\, Mieres\, Asturias\, 33600\, Spain
CATEGORIES:Aula Abierta
ATTACH;FMTTYPE=image/jpeg:https://adnasturies.com/wp-content/uploads/2025/07/aula-abierta-aspectos-legales-e1757576633391.jpg
END:VEVENT
BEGIN:VEVENT
DTSTART;VALUE=DATE:20250923
DTEND;VALUE=DATE:20250924
DTSTAMP:20260421T200837
CREATED:20250730T104640Z
LAST-MODIFIED:20250809T101551Z
UID:10000320-1758585600-1758671999@adnasturies.com
SUMMARY:Foro envejecimiento activo - Semana Europea del Deporte
DESCRIPTION:Importancia de la actividad física para llevar una vida saludable en edades avanzadas.
URL:https://adnasturies.com/evento/foro-envejecimiento-activo-semana-europea-del-deporte/
LOCATION:Luarca\, Valdés\, Asturias\, 33700\, Spain
CATEGORIES:Foros Adn
ATTACH;FMTTYPE=image/jpeg:https://adnasturies.com/wp-content/uploads/2025/07/adn-asturies-deporte-naturaleza-foro-envejecimiento-activo.jpg
END:VEVENT
BEGIN:VEVENT
DTSTART;VALUE=DATE:20250918
DTEND;VALUE=DATE:20250919
DTSTAMP:20260421T200837
CREATED:20250730T104450Z
LAST-MODIFIED:20250809T101415Z
UID:10000319-1758153600-1758239999@adnasturies.com
SUMMARY:Foro Deporte y Naturaleza como motor del Oriente
DESCRIPTION:Centrado en el auge y la relevancia que han tomado las actividades deportivas al aire libre en esta zona de Asturias y lo que implican como reclamo turístico y dinamizador económico.
URL:https://adnasturies.com/evento/foro-deporte-y-naturaleza-como-motor-del-oriente/
CATEGORIES:Foros Adn
ATTACH;FMTTYPE=image/jpeg:https://adnasturies.com/wp-content/uploads/2025/07/adn-asturies-deporte-naturaleza-foro-naturaleza-oriente.jpg
END:VEVENT
BEGIN:VEVENT
DTSTART;VALUE=DATE:20250911
DTEND;VALUE=DATE:20250912
DTSTAMP:20260421T200837
CREATED:20250729T192933Z
LAST-MODIFIED:20250809T101137Z
UID:10000301-1757548800-1757635199@adnasturies.com
SUMMARY:Entrenamiento y preparación física
DESCRIPTION:Charla: La importancia de la prevención de lesiones en el deporte base y de alto rendimiento. \n\n\n\n\n\n\n\n\n\n\n\n\nObjetivo: El propósito de esta exposición es analizar la importancia de la prevención de lesiones deportivas en todos los niveles\, desde el deporte base hasta el alto rendimiento. Reunirá a preparadores físicos\, fisioterapeutas\, entrenadores y médicos deportivos para intercambiar conocimientos sobre la magnitud del problema\, los factores de riesgo y las estrategias de prevención. Se presentarán y debatirán herramientas eficaces\, se promoverá la implementación de programas basados en evidencia científica y práctica\, y se fomentará la investigación y la formación continua. El objetivo final es reducir las lesiones y promover una práctica deportiva más segura y saludable.
URL:https://adnasturies.com/evento/entrenamiento-y-preparacion-fisica/
LOCATION:Facultad de Ciencias. Universidad de Oviedo\, C/ Leopoldo Calvo Sotelo\, 18\, Oviedo\, Asturias\, 33007\, Spain
CATEGORIES:Aula Abierta
ATTACH;FMTTYPE=image/jpeg:https://adnasturies.com/wp-content/uploads/2025/07/aula-abierta-preparacion-fisica.jpg
END:VEVENT
BEGIN:VEVENT
DTSTART;VALUE=DATE:20250831
DTEND;VALUE=DATE:20250901
DTSTAMP:20260421T200837
CREATED:20250730T103547Z
LAST-MODIFIED:20250809T100640Z
UID:10000314-1756627200-1756659600@adnasturies.com
SUMMARY:Geocaching
DESCRIPTION:Aventura en familia con este juego de exploración en plena naturaleza. Buscaremos “tesoros” escondidos usando coordenadas GPS y aprenderemos a seguir rastros como auténticos exploradores. Cada tesoro o geocaché a encontrar te permitirá observar la fauna\, leer el terreno y descubrir secretos de la montaña\, mientras recorremos el entorno natural de Fuentes de Invierno con curiosidad y atención. Esta actividad fomenta el trabajo en equipo\, el uso de la tecnología de forma creativa y el desarrollo de habilidades de orientación y observación. Utilizaremos pistas\, mapas y herramientas sencillas para interpretar el entorno como si fuésemos rastreadores. Es una propuesta especialmente pensada para familias con niños y niñas a partir de 6 años\, que quieran vivir una experiencia lúdica y educativa en contacto directo con la naturaleza. No se requiere experiencia previa. Grupos de máximo 20 personas. Duración 3 horas. Se requiere ropa de montaña adecuada\, calzado de montaña en buen estado\, gorra\, mochila con agua\, algo de comida\, bastones. GPS o smartphone con batería\, libreta y lápiz. Incluye monitor\, geocaches y tesoros\, plataforma tecnológica\, mapas\, sistema de reservas\, seguros de rc y accidentes. Empresa: Naturaller.
URL:https://adnasturies.com/evento/geocaching/2025-08-31/
LOCATION:Estacion Fuentes de Invierno\, Carretera del Puerto de San Isidro\, s/n\, Aller\, Asturias\, 33688\, Spain
CATEGORIES:Jornadas temáticas estaciones
ATTACH;FMTTYPE=image/jpeg:https://adnasturies.com/wp-content/uploads/2025/07/adn-asturies-deporte-naturaleza-jornadas-montana-verano-fuentes-2.jpg
END:VEVENT
BEGIN:VEVENT
DTSTART;VALUE=DATE:20250828
DTEND;VALUE=DATE:20250829
DTSTAMP:20260421T200837
CREATED:20250730T104356Z
LAST-MODIFIED:20250809T100648Z
UID:10000318-1756339200-1756425599@adnasturies.com
SUMMARY:Foro Deporte y Desarrollo Rural
DESCRIPTION:La actividad física y el deporte como activo del medio rural.
URL:https://adnasturies.com/evento/foro-deporte-y-desarrollo-rural/
CATEGORIES:Foros Adn
ATTACH;FMTTYPE=image/jpeg:https://adnasturies.com/wp-content/uploads/2025/07/adn-asturies-deporte-naturaleza-foro-naturaleza-rural.jpg
END:VEVENT
BEGIN:VEVENT
DTSTART;VALUE=DATE:20250824
DTEND;VALUE=DATE:20250825
DTSTAMP:20260421T200837
CREATED:20250730T103547Z
LAST-MODIFIED:20250809T100640Z
UID:10000313-1755993600-1756079999@adnasturies.com
SUMMARY:Geocaching
DESCRIPTION:Aventura en familia con este juego de exploración en plena naturaleza. Buscaremos “tesoros” escondidos usando coordenadas GPS y aprenderemos a seguir rastros como auténticos exploradores. Cada tesoro o geocaché a encontrar te permitirá observar la fauna\, leer el terreno y descubrir secretos de la montaña\, mientras recorremos el entorno natural de Fuentes de Invierno con curiosidad y atención. Esta actividad fomenta el trabajo en equipo\, el uso de la tecnología de forma creativa y el desarrollo de habilidades de orientación y observación. Utilizaremos pistas\, mapas y herramientas sencillas para interpretar el entorno como si fuésemos rastreadores. Es una propuesta especialmente pensada para familias con niños y niñas a partir de 6 años\, que quieran vivir una experiencia lúdica y educativa en contacto directo con la naturaleza. No se requiere experiencia previa. Grupos de máximo 20 personas. Duración 3 horas. Se requiere ropa de montaña adecuada\, calzado de montaña en buen estado\, gorra\, mochila con agua\, algo de comida\, bastones. GPS o smartphone con batería\, libreta y lápiz. Incluye monitor\, geocaches y tesoros\, plataforma tecnológica\, mapas\, sistema de reservas\, seguros de rc y accidentes. Empresa: Naturaller.
URL:https://adnasturies.com/evento/geocaching/2025-08-24/
LOCATION:Estacion Fuentes de Invierno\, Carretera del Puerto de San Isidro\, s/n\, Aller\, Asturias\, 33688\, Spain
CATEGORIES:Jornadas temáticas estaciones
ATTACH;FMTTYPE=image/jpeg:https://adnasturies.com/wp-content/uploads/2025/07/adn-asturies-deporte-naturaleza-jornadas-montana-verano-fuentes-2.jpg
END:VEVENT
BEGIN:VEVENT
DTSTART;VALUE=DATE:20250814
DTEND;VALUE=DATE:20250815
DTSTAMP:20260421T200837
CREATED:20250730T104243Z
LAST-MODIFIED:20250809T100403Z
UID:10000317-1755129600-1755215999@adnasturies.com
SUMMARY:Foro beneficios del deporte en la naturaleza
DESCRIPTION:Beneficios de realizar deporte en la naturaleza en la vida cotidiana
URL:https://adnasturies.com/evento/foro-beneficios-del-deporte-en-la-naturaleza/
LOCATION:Feria Internacional de Muestras de Asturias\, Paseo Dr. Fleming\, 1109\, Periurbano - Rural\, Gijón\, Asturias\, 33204\, Spain
CATEGORIES:Foros Adn
ATTACH;FMTTYPE=image/jpeg:https://adnasturies.com/wp-content/uploads/2025/07/adn-asturies-deporte-naturaleza-foro-fidma.jpg
END:VEVENT
BEGIN:VEVENT
DTSTART;VALUE=DATE:20250802
DTEND;VALUE=DATE:20250803
DTSTAMP:20260421T200837
CREATED:20250730T102906Z
LAST-MODIFIED:20250809T103759Z
UID:10000310-1754121600-1754154000@adnasturies.com
SUMMARY:Yoga en familia en las cumbres.
DESCRIPTION:ADN de montaña. Verano en Payares\nImpartida por la monitora Chusa Cuendias. Hasta 20 participantes. No se incluyen esterillas. Duración 1 h. Mínimo un adulto por niño.\n \n 
URL:https://adnasturies.com/evento/yoga-en-familia-en-las-cumbres/2025-08-02/
LOCATION:Valgrande-Pajares\, Brañillin\, s/n\, Pajares\, Asturias\, 33693\, Spain
CATEGORIES:Jornadas temáticas estaciones
ATTACH;FMTTYPE=image/jpeg:https://adnasturies.com/wp-content/uploads/2025/07/adn-asturies-deporte-naturaleza-jornadas-montana-verano-payares.jpg
END:VEVENT
BEGIN:VEVENT
DTSTART;VALUE=DATE:20250802
DTEND;VALUE=DATE:20250803
DTSTAMP:20260421T200837
CREATED:20250730T104041Z
LAST-MODIFIED:20250809T104436Z
UID:10000316-1754092800-1754179199@adnasturies.com
SUMMARY:Foro Deporte Adaptado I
DESCRIPTION:Oportunidad para que personas con discapacidad física del territorio asturiano se acerquen a la actividad\, conozcan las oportunidades que tienen de práctica deportiva y pueda ser un punto de motivación para su comienzo en el deporte adaptado.
URL:https://adnasturies.com/evento/foro-deporte-adaptado-i/
CATEGORIES:Foros Adn
ATTACH;FMTTYPE=image/jpeg:https://adnasturies.com/wp-content/uploads/2025/07/adn-asturies-deporte-naturaleza-foro-deporte-adaptado.jpg
END:VEVENT
BEGIN:VEVENT
DTSTART;VALUE=DATE:20250726
DTEND;VALUE=DATE:20250727
DTSTAMP:20260421T200837
CREATED:20250730T102906Z
LAST-MODIFIED:20250809T103759Z
UID:10000309-1753516800-1753549200@adnasturies.com
SUMMARY:Yoga en familia en las cumbres.
DESCRIPTION:ADN de montaña. Verano en Payares\nImpartida por la monitora Chusa Cuendias. Hasta 20 participantes. No se incluyen esterillas. Duración 1 h. Mínimo un adulto por niño.\n \n 
URL:https://adnasturies.com/evento/yoga-en-familia-en-las-cumbres/2025-07-26/
LOCATION:Valgrande-Pajares\, Brañillin\, s/n\, Pajares\, Asturias\, 33693\, Spain
CATEGORIES:Jornadas temáticas estaciones
ATTACH;FMTTYPE=image/jpeg:https://adnasturies.com/wp-content/uploads/2025/07/adn-asturies-deporte-naturaleza-jornadas-montana-verano-payares.jpg
END:VEVENT
BEGIN:VEVENT
DTSTART;VALUE=DATE:20250712
DTEND;VALUE=DATE:20250713
DTSTAMP:20260421T200837
CREATED:20250730T102906Z
LAST-MODIFIED:20250809T103759Z
UID:10000308-1752307200-1752339600@adnasturies.com
SUMMARY:Yoga en familia en las cumbres.
DESCRIPTION:ADN de montaña. Verano en Payares\nImpartida por la monitora Chusa Cuendias. Hasta 20 participantes. No se incluyen esterillas. Duración 1 h. Mínimo un adulto por niño.\n \n 
URL:https://adnasturies.com/evento/yoga-en-familia-en-las-cumbres/2025-07-12/
LOCATION:Valgrande-Pajares\, Brañillin\, s/n\, Pajares\, Asturias\, 33693\, Spain
CATEGORIES:Jornadas temáticas estaciones
ATTACH;FMTTYPE=image/jpeg:https://adnasturies.com/wp-content/uploads/2025/07/adn-asturies-deporte-naturaleza-jornadas-montana-verano-payares.jpg
END:VEVENT
BEGIN:VEVENT
DTSTART;VALUE=DATE:20250629
DTEND;VALUE=DATE:20250630
DTSTAMP:20260421T200837
CREATED:20250730T102906Z
LAST-MODIFIED:20250809T103759Z
UID:10000307-1751155200-1751241599@adnasturies.com
SUMMARY:Yoga en familia en las cumbres.
DESCRIPTION:ADN de montaña. Verano en Payares\nImpartida por la monitora Chusa Cuendias. Hasta 20 participantes. No se incluyen esterillas. Duración 1 h. Mínimo un adulto por niño.\n \n 
URL:https://adnasturies.com/evento/yoga-en-familia-en-las-cumbres/2025-06-29/
LOCATION:Valgrande-Pajares\, Brañillin\, s/n\, Pajares\, Asturias\, 33693\, Spain
CATEGORIES:Jornadas temáticas estaciones
ATTACH;FMTTYPE=image/jpeg:https://adnasturies.com/wp-content/uploads/2025/07/adn-asturies-deporte-naturaleza-jornadas-montana-verano-payares.jpg
END:VEVENT
END:VCALENDAR