BEGIN:VCALENDAR
VERSION:2.0
PRODID:-//adn. Asturies deporte y naturaleza - ECPv6.15.11//NONSGML v1.0//EN
CALSCALE:GREGORIAN
METHOD:PUBLISH
X-WR-CALNAME:adn. Asturies deporte y naturaleza
X-ORIGINAL-URL:https://adnasturies.com
X-WR-CALDESC:Eventos para adn. Asturies deporte y naturaleza
REFRESH-INTERVAL;VALUE=DURATION:PT1H
X-Robots-Tag:noindex
X-PUBLISHED-TTL:PT1H
BEGIN:VTIMEZONE
TZID:Europe/Madrid
BEGIN:DAYLIGHT
TZOFFSETFROM:+0100
TZOFFSETTO:+0200
TZNAME:CEST
DTSTART:20240331T010000
END:DAYLIGHT
BEGIN:STANDARD
TZOFFSETFROM:+0200
TZOFFSETTO:+0100
TZNAME:CET
DTSTART:20241027T010000
END:STANDARD
BEGIN:DAYLIGHT
TZOFFSETFROM:+0100
TZOFFSETTO:+0200
TZNAME:CEST
DTSTART:20250330T010000
END:DAYLIGHT
BEGIN:STANDARD
TZOFFSETFROM:+0200
TZOFFSETTO:+0100
TZNAME:CET
DTSTART:20251026T010000
END:STANDARD
BEGIN:DAYLIGHT
TZOFFSETFROM:+0100
TZOFFSETTO:+0200
TZNAME:CEST
DTSTART:20260329T010000
END:DAYLIGHT
BEGIN:STANDARD
TZOFFSETFROM:+0200
TZOFFSETTO:+0100
TZNAME:CET
DTSTART:20261025T010000
END:STANDARD
END:VTIMEZONE
BEGIN:VEVENT
DTSTART;VALUE=DATE:20251220
DTEND;VALUE=DATE:20251221
DTSTAMP:20260422T022926
CREATED:20250813T094331Z
LAST-MODIFIED:20250813T094331Z
UID:10000393-1766188800-1766275199@adnasturies.com
SUMMARY:Torneo de Navidad en Polideportivo Corredoria Oviedo
DESCRIPTION:
URL:https://adnasturies.com/evento/torneo-de-navidad-en-polideportivo-corredoria-oviedo/
CATEGORIES:Deporte
ATTACH;FMTTYPE=image/jpeg:https://adnasturies.com/wp-content/uploads/2025/08/pexels-photo-2202685-2202685.jpg
END:VEVENT
BEGIN:VEVENT
DTSTART;VALUE=DATE:20251128
DTEND;VALUE=DATE:20251129
DTSTAMP:20260422T022926
CREATED:20250813T093753Z
LAST-MODIFIED:20250813T094233Z
UID:10000392-1764288000-1764374399@adnasturies.com
SUMMARY:Campeonato de España Sub 15
DESCRIPTION:
URL:https://adnasturies.com/evento/campeonato-de-espana-sub15/
CATEGORIES:Deporte
ATTACH;FMTTYPE=image/jpeg:https://adnasturies.com/wp-content/uploads/2025/08/pexels-photo-2202685-2202685.jpg
END:VEVENT
BEGIN:VEVENT
DTSTART;VALUE=DATE:20251026
DTEND;VALUE=DATE:20251027
DTSTAMP:20260422T022926
CREATED:20250813T093528Z
LAST-MODIFIED:20250813T093528Z
UID:10000391-1761436800-1761523199@adnasturies.com
SUMMARY:Torneo en Vegadeo en el Polideportivo de Vegadeo
DESCRIPTION:
URL:https://adnasturies.com/evento/torneo-en-vegadeo-en-el-polideportivo-de-vegadeo/
CATEGORIES:Deporte
ATTACH;FMTTYPE=image/jpeg:https://adnasturies.com/wp-content/uploads/2025/08/pexels-photo-2202685-2202685.jpg
END:VEVENT
BEGIN:VEVENT
DTSTART;VALUE=DATE:20251004
DTEND;VALUE=DATE:20251005
DTSTAMP:20260422T022926
CREATED:20250813T091637Z
LAST-MODIFIED:20250813T091637Z
UID:10000390-1759536000-1759622399@adnasturies.com
SUMMARY:Torneo en Gijón en el Polideportivo la Tejerona
DESCRIPTION:
URL:https://adnasturies.com/evento/torneo-en-gijon-en-el-polideportivo-la-tejerona/
CATEGORIES:Deporte
ATTACH;FMTTYPE=image/jpeg:https://adnasturies.com/wp-content/uploads/2025/08/pexels-photo-2202685-2202685.jpg
END:VEVENT
BEGIN:VEVENT
DTSTART;VALUE=DATE:20250921
DTEND;VALUE=DATE:20250922
DTSTAMP:20260422T022926
CREATED:20250813T091527Z
LAST-MODIFIED:20250813T091527Z
UID:10000389-1758412800-1758499199@adnasturies.com
SUMMARY:Ctos. de Asturias en Langreo de todas las categorías
DESCRIPTION:
URL:https://adnasturies.com/evento/ctos-de-asturias-en-langreo-de-todas-las-categorias/
CATEGORIES:Deporte
ATTACH;FMTTYPE=image/jpeg:https://adnasturies.com/wp-content/uploads/2025/08/pexels-photo-2202685-2202685.jpg
END:VEVENT
BEGIN:VEVENT
DTSTART;VALUE=DATE:20250906
DTEND;VALUE=DATE:20250907
DTSTAMP:20260422T022926
CREATED:20250813T091424Z
LAST-MODIFIED:20250813T091424Z
UID:10000388-1757116800-1757203199@adnasturies.com
SUMMARY:Torneo Día de Asturias en Langreo. Torneo de todas las Categorías
DESCRIPTION:
URL:https://adnasturies.com/evento/torneo-dia-de-asturias-en-langreo-torneo-de-todas-las-categorias/
CATEGORIES:Deporte
ATTACH;FMTTYPE=image/jpeg:https://adnasturies.com/wp-content/uploads/2025/08/pexels-photo-2202685-2202685.jpg
END:VEVENT
END:VCALENDAR