BEGIN:VCALENDAR
VERSION:2.0
PRODID:-//adn. Asturies deporte y naturaleza - ECPv6.15.11//NONSGML v1.0//EN
CALSCALE:GREGORIAN
METHOD:PUBLISH
X-WR-CALNAME:adn. Asturies deporte y naturaleza
X-ORIGINAL-URL:https://adnasturies.com
X-WR-CALDESC:Eventos para adn. Asturies deporte y naturaleza
REFRESH-INTERVAL;VALUE=DURATION:PT1H
X-Robots-Tag:noindex
X-PUBLISHED-TTL:PT1H
BEGIN:VTIMEZONE
TZID:Europe/Madrid
BEGIN:DAYLIGHT
TZOFFSETFROM:+0100
TZOFFSETTO:+0200
TZNAME:CEST
DTSTART:20240331T010000
END:DAYLIGHT
BEGIN:STANDARD
TZOFFSETFROM:+0200
TZOFFSETTO:+0100
TZNAME:CET
DTSTART:20241027T010000
END:STANDARD
BEGIN:DAYLIGHT
TZOFFSETFROM:+0100
TZOFFSETTO:+0200
TZNAME:CEST
DTSTART:20250330T010000
END:DAYLIGHT
BEGIN:STANDARD
TZOFFSETFROM:+0200
TZOFFSETTO:+0100
TZNAME:CET
DTSTART:20251026T010000
END:STANDARD
BEGIN:DAYLIGHT
TZOFFSETFROM:+0100
TZOFFSETTO:+0200
TZNAME:CEST
DTSTART:20260329T010000
END:DAYLIGHT
BEGIN:STANDARD
TZOFFSETFROM:+0200
TZOFFSETTO:+0100
TZNAME:CET
DTSTART:20261025T010000
END:STANDARD
END:VTIMEZONE
BEGIN:VEVENT
DTSTART;VALUE=DATE:20251214
DTEND;VALUE=DATE:20251215
DTSTAMP:20260422T101005
CREATED:20250716T072857Z
LAST-MODIFIED:20250809T103035Z
UID:10000240-1765670400-1765756799@adnasturies.com
SUMMARY:FAKYDA. Final Liga Nac. veteranos (todas las categorías). Tenerife
DESCRIPTION:
URL:https://adnasturies.com/evento/fakyda-final-liga-nac-veteranos-todas-las-categorias-tenerife/
CATEGORIES:Deporte
ATTACH;FMTTYPE=image/jpeg:https://adnasturies.com/wp-content/uploads/2025/07/pexels-photo-6765030-6765030.jpg
END:VEVENT
BEGIN:VEVENT
DTSTART;VALUE=DATE:20251213
DTEND;VALUE=DATE:20251215
DTSTAMP:20260422T101005
CREATED:20250716T072730Z
LAST-MODIFIED:20250809T103026Z
UID:10000239-1765584000-1765756799@adnasturies.com
SUMMARY:FAKYDA. Final Liga Nac. masculina (todas las categorías). Tenerife
DESCRIPTION:
URL:https://adnasturies.com/evento/fakyda-final-liga-nac-masculina-todas-las-categorias-tenerife/
CATEGORIES:Deporte
ATTACH;FMTTYPE=image/jpeg:https://adnasturies.com/wp-content/uploads/2025/07/pexels-photo-6765030-6765030.jpg
END:VEVENT
BEGIN:VEVENT
DTSTART;VALUE=DATE:20251213
DTEND;VALUE=DATE:20251214
DTSTAMP:20260422T101005
CREATED:20250716T073200Z
LAST-MODIFIED:20250809T103001Z
UID:10000241-1765584000-1765670399@adnasturies.com
SUMMARY:FAKYDA. Exámenes de Nihon Taijitsu hasta 6º DAN. Llanera
DESCRIPTION:
URL:https://adnasturies.com/evento/fakyda-examenes-de-nihon-taijitsu-hasta-6o-dan-llanera/
CATEGORIES:Deporte
ATTACH;FMTTYPE=image/jpeg:https://adnasturies.com/wp-content/uploads/2025/07/pexels-photo-6765030-6765030.jpg
END:VEVENT
BEGIN:VEVENT
DTSTART;VALUE=DATE:20251212
DTEND;VALUE=DATE:20251214
DTSTAMP:20260422T101005
CREATED:20250716T072606Z
LAST-MODIFIED:20250809T102947Z
UID:10000238-1765497600-1765670399@adnasturies.com
SUMMARY:FAKYDA. Final Liga Iberdrola (todas las categorías). Tenerife
DESCRIPTION:
URL:https://adnasturies.com/evento/fakyda-final-liga-iberdrola-todas-las-categorias-tenerife/
CATEGORIES:Deporte
ATTACH;FMTTYPE=image/jpeg:https://adnasturies.com/wp-content/uploads/2025/07/pexels-photo-6765030-6765030.jpg
END:VEVENT
BEGIN:VEVENT
DTSTART;VALUE=DATE:20251206
DTEND;VALUE=DATE:20251207
DTSTAMP:20260422T101005
CREATED:20250716T072435Z
LAST-MODIFIED:20250809T102927Z
UID:10000237-1764979200-1765065599@adnasturies.com
SUMMARY:FAKYDA. V Trofeo ciudad de Gijón (C.D. Gijón). Gijón
DESCRIPTION:
URL:https://adnasturies.com/evento/fakyda-v-trofeo-ciudad-de-gijon-c-d-gijon-gijon/
CATEGORIES:Deporte
ATTACH;FMTTYPE=image/jpeg:https://adnasturies.com/wp-content/uploads/2025/07/pexels-photo-6765030-6765030.jpg
END:VEVENT
BEGIN:VEVENT
DTSTART;VALUE=DATE:20251129
DTEND;VALUE=DATE:20251130
DTSTAMP:20260422T101005
CREATED:20250716T072231Z
LAST-MODIFIED:20250809T102855Z
UID:10000236-1764374400-1764460799@adnasturies.com
SUMMARY:FAKYDA. XI Trofeo IOSTK (G. Arenas). Oviedo
DESCRIPTION:
URL:https://adnasturies.com/evento/fakyda-xi-trofeo-iostk-g-arenas-oviedo/
CATEGORIES:Deporte
ATTACH;FMTTYPE=image/jpeg:https://adnasturies.com/wp-content/uploads/2025/07/pexels-photo-6765030-6765030.jpg
END:VEVENT
BEGIN:VEVENT
DTSTART;VALUE=DATE:20251122
DTEND;VALUE=DATE:20251123
DTSTAMP:20260422T101005
CREATED:20250716T072054Z
LAST-MODIFIED:20250809T102716Z
UID:10000235-1763769600-1763855999@adnasturies.com
SUMMARY:FAKYDA. Campeonato de España de Kung-fu. Guadalajara
DESCRIPTION:
URL:https://adnasturies.com/evento/fakyda-campeonato-de-espana-de-kung-fu-guadalajara/
CATEGORIES:Deporte
ATTACH;FMTTYPE=image/jpeg:https://adnasturies.com/wp-content/uploads/2025/07/pexels-photo-6765030-6765030.jpg
END:VEVENT
BEGIN:VEVENT
DTSTART;VALUE=DATE:20251122
DTEND;VALUE=DATE:20251123
DTSTAMP:20260422T101005
CREATED:20250716T071936Z
LAST-MODIFIED:20250809T102707Z
UID:10000234-1763769600-1763855999@adnasturies.com
SUMMARY:FAKYDA. Exámenes hasta 8º DAN. Oviedo
DESCRIPTION:
URL:https://adnasturies.com/evento/fakyda-examenes-hasta-8o-dan-oviedo/
CATEGORIES:Deporte
ATTACH;FMTTYPE=image/jpeg:https://adnasturies.com/wp-content/uploads/2025/07/pexels-photo-6765030-6765030.jpg
END:VEVENT
BEGIN:VEVENT
DTSTART;VALUE=DATE:20251115
DTEND;VALUE=DATE:20251117
DTSTAMP:20260422T101005
CREATED:20250716T071829Z
LAST-MODIFIED:20250809T102613Z
UID:10000233-1763164800-1763337599@adnasturies.com
SUMMARY:FAKYDA. Congreso Nacional de Nihon Taijitsu. Oviedo
DESCRIPTION:
URL:https://adnasturies.com/evento/fakyda-congreso-nacional-de-nihon-taijitsu-oviedo/
CATEGORIES:Deporte
ATTACH;FMTTYPE=image/jpeg:https://adnasturies.com/wp-content/uploads/2025/07/pexels-photo-6765030-6765030.jpg
END:VEVENT
BEGIN:VEVENT
DTSTART;VALUE=DATE:20251114
DTEND;VALUE=DATE:20251117
DTSTAMP:20260422T101005
CREATED:20250716T071628Z
LAST-MODIFIED:20250809T102553Z
UID:10000232-1763078400-1763337599@adnasturies.com
SUMMARY:FAKYDA. Campeonato de España cadete/junior sub21. Jaén
DESCRIPTION:
URL:https://adnasturies.com/evento/fakyda-campeonato-de-espana-cadete-junior-sub21-jaen/
CATEGORIES:Deporte
ATTACH;FMTTYPE=image/jpeg:https://adnasturies.com/wp-content/uploads/2025/07/pexels-photo-6765030-6765030.jpg
END:VEVENT
BEGIN:VEVENT
DTSTART;VALUE=DATE:20251108
DTEND;VALUE=DATE:20251109
DTSTAMP:20260422T101005
CREATED:20250716T071439Z
LAST-MODIFIED:20250809T102532Z
UID:10000231-1762560000-1762646399@adnasturies.com
SUMMARY:FAKYDA. Campeonato de Asturias de Kung-fu
DESCRIPTION:
URL:https://adnasturies.com/evento/fakyda-campeonato-de-asturias-de-kung-fu/
CATEGORIES:Deporte
ATTACH;FMTTYPE=image/jpeg:https://adnasturies.com/wp-content/uploads/2025/07/pexels-photo-6765030-6765030.jpg
END:VEVENT
BEGIN:VEVENT
DTSTART;VALUE=DATE:20251025
DTEND;VALUE=DATE:20251027
DTSTAMP:20260422T101005
CREATED:20250715T124944Z
LAST-MODIFIED:20250809T102402Z
UID:10000230-1761350400-1761523199@adnasturies.com
SUMMARY:FAKYDA. 2 liga Nacional masculina ALE/INF/JUV. Orense
DESCRIPTION:
URL:https://adnasturies.com/evento/fakyda-2-liga-nacional-masculina-ale-inf-juv-orense/
CATEGORIES:Deporte
ATTACH;FMTTYPE=image/jpeg:https://adnasturies.com/wp-content/uploads/2025/07/pexels-photo-6765030-6765030.jpg
END:VEVENT
BEGIN:VEVENT
DTSTART;VALUE=DATE:20251018
DTEND;VALUE=DATE:20251019
DTSTAMP:20260422T101005
CREATED:20250715T124808Z
LAST-MODIFIED:20250809T102304Z
UID:10000229-1760745600-1760831999@adnasturies.com
SUMMARY:FAKYDA. XLVII Trofeo Internacional Princesa de Asturias. Oviedo
DESCRIPTION:
URL:https://adnasturies.com/evento/fakyda-xlvii-trofeo-internacional-princesa-de-asturias-oviedo/
CATEGORIES:Deporte
ATTACH;FMTTYPE=image/jpeg:https://adnasturies.com/wp-content/uploads/2025/07/pexels-photo-6765030-6765030.jpg
END:VEVENT
BEGIN:VEVENT
DTSTART;VALUE=DATE:20251011
DTEND;VALUE=DATE:20251012
DTSTAMP:20260422T101005
CREATED:20250715T124651Z
LAST-MODIFIED:20250809T102216Z
UID:10000228-1760140800-1760227199@adnasturies.com
SUMMARY:FAKYDA. Curso de Goshin. Oviedo
DESCRIPTION:
URL:https://adnasturies.com/evento/fakyda-curso-de-goshin-oviedo/
CATEGORIES:Deporte
ATTACH;FMTTYPE=image/jpeg:https://adnasturies.com/wp-content/uploads/2025/07/pexels-photo-6765030-6765030.jpg
END:VEVENT
BEGIN:VEVENT
DTSTART;VALUE=DATE:20251011
DTEND;VALUE=DATE:20251012
DTSTAMP:20260422T101005
CREATED:20250715T124550Z
LAST-MODIFIED:20250809T102135Z
UID:10000227-1760140800-1760227199@adnasturies.com
SUMMARY:FAKYDA. Campeonato Asturias cadete-junior y sub21. Grado
DESCRIPTION:
URL:https://adnasturies.com/evento/fakyda-campeonato-asturias-cadete-junior-y-sub21-grado/
CATEGORIES:Deporte
ATTACH;FMTTYPE=image/jpeg:https://adnasturies.com/wp-content/uploads/2025/07/pexels-photo-6765030-6765030.jpg
END:VEVENT
BEGIN:VEVENT
DTSTART;VALUE=DATE:20251004
DTEND;VALUE=DATE:20251006
DTSTAMP:20260422T101005
CREATED:20250715T124423Z
LAST-MODIFIED:20250809T101845Z
UID:10000226-1759536000-1759708799@adnasturies.com
SUMMARY:FAKYDA. 2 Liga Nacional masculina junior/sub 21. 2 Liga Iberdrola junior/sub 21. Langreo
DESCRIPTION:
URL:https://adnasturies.com/evento/fakyda-2-liga-nacional-masculina-junior-sub-21-2-liga-iberdrola-junior-sub-21-langreo/
CATEGORIES:Deporte
ATTACH;FMTTYPE=image/jpeg:https://adnasturies.com/wp-content/uploads/2025/07/pexels-photo-6765030-6765030.jpg
END:VEVENT
BEGIN:VEVENT
DTSTART;VALUE=DATE:20251003
DTEND;VALUE=DATE:20251006
DTSTAMP:20260422T101005
CREATED:20250728T102454Z
LAST-MODIFIED:20250809T101811Z
UID:10000300-1759449600-1759708799@adnasturies.com
SUMMARY:Liga nacional de karate
DESCRIPTION:Categorías:  junior\, sub-21\, veteranos\, parakarate y Liga Iberdrola
URL:https://adnasturies.com/evento/liga-nacional-de-karate/
LOCATION:Langreo\, Spain
CATEGORIES:Deporte
ATTACH;FMTTYPE=image/jpeg:https://adnasturies.com/wp-content/uploads/2025/07/karate.jpg
END:VEVENT
BEGIN:VEVENT
DTSTART;VALUE=DATE:20251003
DTEND;VALUE=DATE:20251004
DTSTAMP:20260422T101005
CREATED:20250715T124230Z
LAST-MODIFIED:20250809T101739Z
UID:10000225-1759449600-1759535999@adnasturies.com
SUMMARY:FAKYDA. 2 Liga Nacional veteranos. Langreo
DESCRIPTION:
URL:https://adnasturies.com/evento/fakyda-2-liga-nacional-veteranos-langreo/
CATEGORIES:Deporte
ATTACH;FMTTYPE=image/jpeg:https://adnasturies.com/wp-content/uploads/2025/07/pexels-photo-6765030-6765030.jpg
END:VEVENT
BEGIN:VEVENT
DTSTART;VALUE=DATE:20250927
DTEND;VALUE=DATE:20250929
DTSTAMP:20260422T101005
CREATED:20250715T124045Z
LAST-MODIFIED:20250809T101653Z
UID:10000224-1758931200-1759103999@adnasturies.com
SUMMARY:FAKYDA. 2 Liga masculina absoluta/cadete. 2 Liga Iberdrola absoluta/cadete. Pontevedra
DESCRIPTION:
URL:https://adnasturies.com/evento/fakyda-2-liga-masculina-absoluta-cadete-2-liga-iberdrola-absoluta-cadete-pontevedra/
CATEGORIES:Deporte
ATTACH;FMTTYPE=image/jpeg:https://adnasturies.com/wp-content/uploads/2025/07/pexels-photo-6765030-6765030.jpg
END:VEVENT
BEGIN:VEVENT
DTSTART;VALUE=DATE:20250913
DTEND;VALUE=DATE:20250914
DTSTAMP:20260422T101005
CREATED:20250715T123440Z
LAST-MODIFIED:20250809T101301Z
UID:10000221-1757721600-1757807999@adnasturies.com
SUMMARY:FAKYDA. Curso de tecnificación. Pola de Laviana
DESCRIPTION:
URL:https://adnasturies.com/evento/fakyda-curso-de-tecnificacion-pola-de-laviana/
CATEGORIES:Deporte
ATTACH;FMTTYPE=image/jpeg:https://adnasturies.com/wp-content/uploads/2025/07/pexels-photo-6765030-6765030.jpg
END:VEVENT
BEGIN:VEVENT
DTSTART;VALUE=DATE:20250912
DTEND;VALUE=DATE:20250915
DTSTAMP:20260422T101005
CREATED:20250715T123848Z
LAST-MODIFIED:20250809T101144Z
UID:10000223-1757635200-1757894399@adnasturies.com
SUMMARY:FAKYDA. CTO Países del Mediterráneo. Alejandría Egipto
DESCRIPTION:
URL:https://adnasturies.com/evento/fakyda-cto-paises-del-mediterraneo-alejandria-egipto/
CATEGORIES:Deporte
ATTACH;FMTTYPE=image/jpeg:https://adnasturies.com/wp-content/uploads/2025/07/pexels-photo-6765030-6765030.jpg
END:VEVENT
END:VCALENDAR