BEGIN:VCALENDAR
VERSION:2.0
PRODID:-//adn. Asturies deporte y naturaleza - ECPv6.15.11//NONSGML v1.0//EN
CALSCALE:GREGORIAN
METHOD:PUBLISH
X-ORIGINAL-URL:https://adnasturies.com
X-WR-CALDESC:Eventos para adn. Asturies deporte y naturaleza
REFRESH-INTERVAL;VALUE=DURATION:PT1H
X-Robots-Tag:noindex
X-PUBLISHED-TTL:PT1H
BEGIN:VTIMEZONE
TZID:Europe/Madrid
BEGIN:DAYLIGHT
TZOFFSETFROM:+0100
TZOFFSETTO:+0200
TZNAME:CEST
DTSTART:20240331T010000
END:DAYLIGHT
BEGIN:STANDARD
TZOFFSETFROM:+0200
TZOFFSETTO:+0100
TZNAME:CET
DTSTART:20241027T010000
END:STANDARD
BEGIN:DAYLIGHT
TZOFFSETFROM:+0100
TZOFFSETTO:+0200
TZNAME:CEST
DTSTART:20250330T010000
END:DAYLIGHT
BEGIN:STANDARD
TZOFFSETFROM:+0200
TZOFFSETTO:+0100
TZNAME:CET
DTSTART:20251026T010000
END:STANDARD
BEGIN:DAYLIGHT
TZOFFSETFROM:+0100
TZOFFSETTO:+0200
TZNAME:CEST
DTSTART:20260329T010000
END:DAYLIGHT
BEGIN:STANDARD
TZOFFSETFROM:+0200
TZOFFSETTO:+0100
TZNAME:CET
DTSTART:20261025T010000
END:STANDARD
END:VTIMEZONE
BEGIN:VEVENT
DTSTART;VALUE=DATE:20251213
DTEND;VALUE=DATE:20251214
DTSTAMP:20260421T170737
CREATED:20250721T120807Z
LAST-MODIFIED:20250809T103007Z
UID:10000299-1765584000-1765670399@adnasturies.com
SUMMARY:GALA FPPA. LUGAR POR DETERMINAR
DESCRIPTION:
URL:https://adnasturies.com/evento/gala-fppa-lugar-por-determinar/
CATEGORIES:Deporte
ATTACH;FMTTYPE=image/jpeg:https://adnasturies.com/wp-content/uploads/2025/07/g1657854d16919774e8ecb0300cbfec9f930e4cb7aa42b0cc5579a7c30f94e1b0db229ec8666d35fda38e4a47256ddb555276bff71a377b2f64fc04816f5cceb6_1280-6612340.jpg
END:VEVENT
BEGIN:VEVENT
DTSTART;VALUE=DATE:20251205
DTEND;VALUE=DATE:20251208
DTSTAMP:20260421T170737
CREATED:20250721T120647Z
LAST-MODIFIED:20250809T102919Z
UID:10000298-1764892800-1765151999@adnasturies.com
SUMMARY:MASTER FINAL CIRCUITO MENORES 2025. WPC RÍA AVILÉS
DESCRIPTION:
URL:https://adnasturies.com/evento/master-final-circuito-menores-2025-wpc-ria-aviles/
CATEGORIES:Deporte
ATTACH;FMTTYPE=image/jpeg:https://adnasturies.com/wp-content/uploads/2025/07/g1657854d16919774e8ecb0300cbfec9f930e4cb7aa42b0cc5579a7c30f94e1b0db229ec8666d35fda38e4a47256ddb555276bff71a377b2f64fc04816f5cceb6_1280-6612340.jpg
END:VEVENT
BEGIN:VEVENT
DTSTART;VALUE=DATE:20251128
DTEND;VALUE=DATE:20251201
DTSTAMP:20260421T170737
CREATED:20250721T120432Z
LAST-MODIFIED:20250809T102825Z
UID:10000297-1764288000-1764547199@adnasturies.com
SUMMARY:MASTER FINAL CIRCUITO ABSOLUTO 2025. PAIDESPORT CENTER
DESCRIPTION:
URL:https://adnasturies.com/evento/master-final-circuito-absoluto-2025-paidesport-center/
CATEGORIES:Deporte
ATTACH;FMTTYPE=image/jpeg:https://adnasturies.com/wp-content/uploads/2025/07/g1657854d16919774e8ecb0300cbfec9f930e4cb7aa42b0cc5579a7c30f94e1b0db229ec8666d35fda38e4a47256ddb555276bff71a377b2f64fc04816f5cceb6_1280-6612340.jpg
END:VEVENT
BEGIN:VEVENT
DTSTART;VALUE=DATE:20251121
DTEND;VALUE=DATE:20251124
DTSTAMP:20260421T170737
CREATED:20250721T120052Z
LAST-MODIFIED:20250809T102655Z
UID:10000296-1763683200-1763942399@adnasturies.com
SUMMARY:CAMPEONATO DE ASTURIAS MIXTO. EL SOHO
DESCRIPTION:
URL:https://adnasturies.com/evento/campeonato-de-asturias-mixto-el-soho/
CATEGORIES:Deporte
ATTACH;FMTTYPE=image/jpeg:https://adnasturies.com/wp-content/uploads/2025/07/g1657854d16919774e8ecb0300cbfec9f930e4cb7aa42b0cc5579a7c30f94e1b0db229ec8666d35fda38e4a47256ddb555276bff71a377b2f64fc04816f5cceb6_1280-6612340.jpg
END:VEVENT
BEGIN:VEVENT
DTSTART;VALUE=DATE:20251114
DTEND;VALUE=DATE:20251117
DTSTAMP:20260421T170737
CREATED:20250721T115849Z
LAST-MODIFIED:20250809T102606Z
UID:10000295-1763078400-1763337599@adnasturies.com
SUMMARY:IX PRUEBA MENORES FPPA/RANKING FEP. IBERPADEL
DESCRIPTION:
URL:https://adnasturies.com/evento/ix-prueba-menores-fppa-ranking-fep-iberpadel/
CATEGORIES:Deporte
ATTACH;FMTTYPE=image/jpeg:https://adnasturies.com/wp-content/uploads/2025/07/g1657854d16919774e8ecb0300cbfec9f930e4cb7aa42b0cc5579a7c30f94e1b0db229ec8666d35fda38e4a47256ddb555276bff71a377b2f64fc04816f5cceb6_1280-6612340.jpg
END:VEVENT
BEGIN:VEVENT
DTSTART;VALUE=DATE:20251114
DTEND;VALUE=DATE:20251117
DTSTAMP:20260421T170737
CREATED:20250721T115748Z
LAST-MODIFIED:20250809T102600Z
UID:10000294-1763078400-1763337599@adnasturies.com
SUMMARY:COPA DE ESPAÑA DE LIGAS AUTONÓMICAS (FEP). BARCELONA
DESCRIPTION:
URL:https://adnasturies.com/evento/copa-de-espana-de-ligas-autonomicas-fep-barcelona/
CATEGORIES:Deporte
ATTACH;FMTTYPE=image/jpeg:https://adnasturies.com/wp-content/uploads/2025/07/g1657854d16919774e8ecb0300cbfec9f930e4cb7aa42b0cc5579a7c30f94e1b0db229ec8666d35fda38e4a47256ddb555276bff71a377b2f64fc04816f5cceb6_1280-6612340.jpg
END:VEVENT
BEGIN:VEVENT
DTSTART;VALUE=DATE:20251031
DTEND;VALUE=DATE:20251103
DTSTAMP:20260421T170737
CREATED:20250721T115647Z
LAST-MODIFIED:20250809T102429Z
UID:10000293-1761868800-1762127999@adnasturies.com
SUMMARY:COPA DE ASTURIAS DE EQUIPOS VETERANO. LATERAL SPORT CLUB
DESCRIPTION:
URL:https://adnasturies.com/evento/copa-de-asturias-de-equipos-veterano-lateral-sport-club/
CATEGORIES:Deporte
ATTACH;FMTTYPE=image/jpeg:https://adnasturies.com/wp-content/uploads/2025/07/g1657854d16919774e8ecb0300cbfec9f930e4cb7aa42b0cc5579a7c30f94e1b0db229ec8666d35fda38e4a47256ddb555276bff71a377b2f64fc04816f5cceb6_1280-6612340.jpg
END:VEVENT
BEGIN:VEVENT
DTSTART;VALUE=DATE:20251024
DTEND;VALUE=DATE:20251027
DTSTAMP:20260421T170737
CREATED:20250721T115534Z
LAST-MODIFIED:20250809T102339Z
UID:10000292-1761264000-1761523199@adnasturies.com
SUMMARY:COPA DE ASTURIAS DE EQUIPOS DE MENORES. PADEL SOTO
DESCRIPTION:
URL:https://adnasturies.com/evento/copa-de-asturias-de-equipos-de-menores-padel-soto/
CATEGORIES:Deporte
ATTACH;FMTTYPE=image/jpeg:https://adnasturies.com/wp-content/uploads/2025/07/g1657854d16919774e8ecb0300cbfec9f930e4cb7aa42b0cc5579a7c30f94e1b0db229ec8666d35fda38e4a47256ddb555276bff71a377b2f64fc04816f5cceb6_1280-6612340.jpg
END:VEVENT
BEGIN:VEVENT
DTSTART;VALUE=DATE:20251024
DTEND;VALUE=DATE:20251027
DTSTAMP:20260421T170737
CREATED:20250721T115438Z
LAST-MODIFIED:20250809T102332Z
UID:10000291-1761264000-1761523199@adnasturies.com
SUMMARY:COPA DE ASTURIAS DE EQUIPOS (FASE FINAL). VARIAS SEDES
DESCRIPTION:
URL:https://adnasturies.com/evento/copa-de-asturias-de-equipos-fase-final-varias-sedes/
CATEGORIES:Deporte
ATTACH;FMTTYPE=image/jpeg:https://adnasturies.com/wp-content/uploads/2025/07/g1657854d16919774e8ecb0300cbfec9f930e4cb7aa42b0cc5579a7c30f94e1b0db229ec8666d35fda38e4a47256ddb555276bff71a377b2f64fc04816f5cceb6_1280-6612340.jpg
END:VEVENT
BEGIN:VEVENT
DTSTART;VALUE=DATE:20251017
DTEND;VALUE=DATE:20251020
DTSTAMP:20260421T170737
CREATED:20250721T115325Z
LAST-MODIFIED:20250809T102256Z
UID:10000290-1760659200-1760918399@adnasturies.com
SUMMARY:VIII PRUEBA MENORES FPPA/RANKING FEP. PAL PADEL LANGREO
DESCRIPTION:
URL:https://adnasturies.com/evento/viii-prueba-menores-fppa-ranking-fep-pal-padel-langreo/
CATEGORIES:Deporte
ATTACH;FMTTYPE=image/jpeg:https://adnasturies.com/wp-content/uploads/2025/07/g1657854d16919774e8ecb0300cbfec9f930e4cb7aa42b0cc5579a7c30f94e1b0db229ec8666d35fda38e4a47256ddb555276bff71a377b2f64fc04816f5cceb6_1280-6612340.jpg
END:VEVENT
BEGIN:VEVENT
DTSTART;VALUE=DATE:20251003
DTEND;VALUE=DATE:20251006
DTSTAMP:20260421T170737
CREATED:20250721T115144Z
LAST-MODIFIED:20250809T101804Z
UID:10000289-1759449600-1759708799@adnasturies.com
SUMMARY:CAMPEONATO DE ESPAÑA DE SELECCIONES AUTONÓMICAS ABSOLUTO. MALLORCA
DESCRIPTION:
URL:https://adnasturies.com/evento/campeonato-de-espana-de-selecciones-autonomicas-absoluto-mallorca/
CATEGORIES:Deporte
ATTACH;FMTTYPE=image/jpeg:https://adnasturies.com/wp-content/uploads/2025/07/g1657854d16919774e8ecb0300cbfec9f930e4cb7aa42b0cc5579a7c30f94e1b0db229ec8666d35fda38e4a47256ddb555276bff71a377b2f64fc04816f5cceb6_1280-6612340.jpg
END:VEVENT
BEGIN:VEVENT
DTSTART;VALUE=DATE:20250926
DTEND;VALUE=DATE:20250929
DTSTAMP:20260421T170737
CREATED:20250721T115022Z
LAST-MODIFIED:20250809T101558Z
UID:10000288-1758844800-1759103999@adnasturies.com
SUMMARY:CAMPEONATO DE ASTURIAS ABSOLUTO. EL SOHO
DESCRIPTION:
URL:https://adnasturies.com/evento/campeonato-de-asturias-absoluto-el-soho/
CATEGORIES:Deporte
ATTACH;FMTTYPE=image/jpeg:https://adnasturies.com/wp-content/uploads/2025/07/g1657854d16919774e8ecb0300cbfec9f930e4cb7aa42b0cc5579a7c30f94e1b0db229ec8666d35fda38e4a47256ddb555276bff71a377b2f64fc04816f5cceb6_1280-6612340.jpg
END:VEVENT
BEGIN:VEVENT
DTSTART;VALUE=DATE:20250919
DTEND;VALUE=DATE:20250922
DTSTAMP:20260421T170737
CREATED:20250721T114913Z
LAST-MODIFIED:20250809T101421Z
UID:10000287-1758240000-1758499199@adnasturies.com
SUMMARY:CAMPEONATO DE ESPAÑA DE SELECCIONES AUTONÓMICAS DE MENORES. VALLADOLID
DESCRIPTION:
URL:https://adnasturies.com/evento/campeonato-de-espana-de-selecciones-autonomicas-de-menores-valladolid/
CATEGORIES:Deporte
ATTACH;FMTTYPE=image/jpeg:https://adnasturies.com/wp-content/uploads/2025/07/g1657854d16919774e8ecb0300cbfec9f930e4cb7aa42b0cc5579a7c30f94e1b0db229ec8666d35fda38e4a47256ddb555276bff71a377b2f64fc04816f5cceb6_1280-6612340.jpg
END:VEVENT
BEGIN:VEVENT
DTSTART;VALUE=DATE:20250912
DTEND;VALUE=DATE:20250915
DTSTAMP:20260421T170737
CREATED:20250721T114806Z
LAST-MODIFIED:20250809T101208Z
UID:10000286-1757635200-1757894399@adnasturies.com
SUMMARY:COPA DE ASTURIAS DE EQUIPOS (FASE PREVIA). VARIAS SEDES
DESCRIPTION:
URL:https://adnasturies.com/evento/copa-de-asturias-de-equipos-fase-previa-varias-sedes/
CATEGORIES:Deporte
ATTACH;FMTTYPE=image/jpeg:https://adnasturies.com/wp-content/uploads/2025/07/g1657854d16919774e8ecb0300cbfec9f930e4cb7aa42b0cc5579a7c30f94e1b0db229ec8666d35fda38e4a47256ddb555276bff71a377b2f64fc04816f5cceb6_1280-6612340.jpg
END:VEVENT
BEGIN:VEVENT
DTSTART;VALUE=DATE:20250912
DTEND;VALUE=DATE:20250915
DTSTAMP:20260421T170737
CREATED:20250721T114654Z
LAST-MODIFIED:20250809T101201Z
UID:10000285-1757635200-1757894399@adnasturies.com
SUMMARY:VII TORNEO MENORES FPPA/RANKING FEP
DESCRIPTION:
URL:https://adnasturies.com/evento/vii-torneo-menores-fppa-ranking-fep/
CATEGORIES:Deporte
ATTACH;FMTTYPE=image/jpeg:https://adnasturies.com/wp-content/uploads/2025/07/g1657854d16919774e8ecb0300cbfec9f930e4cb7aa42b0cc5579a7c30f94e1b0db229ec8666d35fda38e4a47256ddb555276bff71a377b2f64fc04816f5cceb6_1280-6612340.jpg
END:VEVENT
BEGIN:VEVENT
DTSTART;VALUE=DATE:20250904
DTEND;VALUE=DATE:20250908
DTSTAMP:20260421T170737
CREATED:20250721T114513Z
LAST-MODIFIED:20250809T100824Z
UID:10000284-1756944000-1757289599@adnasturies.com
SUMMARY:V PRUEBA CIRCUITO ABSOLUTO FPPA. PAIDESPORT CENTER
DESCRIPTION:
URL:https://adnasturies.com/evento/v-prueba-circuito-absoluto-fppa-paidesport-center/
CATEGORIES:Deporte
ATTACH;FMTTYPE=image/jpeg:https://adnasturies.com/wp-content/uploads/2025/07/g1657854d16919774e8ecb0300cbfec9f930e4cb7aa42b0cc5579a7c30f94e1b0db229ec8666d35fda38e4a47256ddb555276bff71a377b2f64fc04816f5cceb6_1280-6612340.jpg
END:VEVENT
END:VCALENDAR