BEGIN:VCALENDAR
VERSION:2.0
PRODID:-//adn. Asturies deporte y naturaleza - ECPv6.15.11//NONSGML v1.0//EN
CALSCALE:GREGORIAN
METHOD:PUBLISH
X-WR-CALNAME:adn. Asturies deporte y naturaleza
X-ORIGINAL-URL:https://adnasturies.com
X-WR-CALDESC:Eventos para adn. Asturies deporte y naturaleza
REFRESH-INTERVAL;VALUE=DURATION:PT1H
X-Robots-Tag:noindex
X-PUBLISHED-TTL:PT1H
BEGIN:VTIMEZONE
TZID:Europe/Madrid
BEGIN:DAYLIGHT
TZOFFSETFROM:+0100
TZOFFSETTO:+0200
TZNAME:CEST
DTSTART:20240331T010000
END:DAYLIGHT
BEGIN:STANDARD
TZOFFSETFROM:+0200
TZOFFSETTO:+0100
TZNAME:CET
DTSTART:20241027T010000
END:STANDARD
BEGIN:DAYLIGHT
TZOFFSETFROM:+0100
TZOFFSETTO:+0200
TZNAME:CEST
DTSTART:20250330T010000
END:DAYLIGHT
BEGIN:STANDARD
TZOFFSETFROM:+0200
TZOFFSETTO:+0100
TZNAME:CET
DTSTART:20251026T010000
END:STANDARD
BEGIN:DAYLIGHT
TZOFFSETFROM:+0100
TZOFFSETTO:+0200
TZNAME:CEST
DTSTART:20260329T010000
END:DAYLIGHT
BEGIN:STANDARD
TZOFFSETFROM:+0200
TZOFFSETTO:+0100
TZNAME:CET
DTSTART:20261025T010000
END:STANDARD
END:VTIMEZONE
BEGIN:VEVENT
DTSTART;VALUE=DATE:20250920
DTEND;VALUE=DATE:20250921
DTSTAMP:20260421T025509
CREATED:20250710T081906Z
LAST-MODIFIED:20250809T101430Z
UID:10000149-1758326400-1758412799@adnasturies.com
SUMMARY:Descenso Xironinos\, Xironines y Viejas Glorias
DESCRIPTION:
URL:https://adnasturies.com/evento/descenso-xironinos-xironines-y-viejas-glorias/
LOCATION:Arriondas\, Asturias\, Spain
CATEGORIES:Deporte
ATTACH;FMTTYPE=image/jpeg:https://adnasturies.com/wp-content/uploads/2025/07/piraguismo.jpg
END:VEVENT
BEGIN:VEVENT
DTSTART;TZID=Europe/Madrid:20250406T090000
DTEND;TZID=Europe/Madrid:20250406T150000
DTSTAMP:20260421T025509
CREATED:20250114T073702Z
LAST-MODIFIED:20250809T103313Z
UID:10000066-1743930000-1743951600@adnasturies.com
SUMMARY:XIV Bike Maratón Montes del Sella
DESCRIPTION:Autentico mountain bike con una distancia de 56km aprox. y unos 1950m de desnivel positivo acumulado. \n 
URL:https://adnasturies.com/evento/xiv-bike-maraton-montes-del-sella/
LOCATION:Arriondas\, Asturias\, Spain
CATEGORIES:Deporte
ATTACH;FMTTYPE=image/jpeg:https://adnasturies.com/wp-content/uploads/2025/01/bike-maraton-montes-sella.jpg
END:VEVENT
END:VCALENDAR