BEGIN:VCALENDAR
VERSION:2.0
PRODID:-//adn. Asturies deporte y naturaleza - ECPv6.15.11//NONSGML v1.0//EN
CALSCALE:GREGORIAN
METHOD:PUBLISH
X-ORIGINAL-URL:https://adnasturies.com
X-WR-CALDESC:Eventos para adn. Asturies deporte y naturaleza
REFRESH-INTERVAL;VALUE=DURATION:PT1H
X-Robots-Tag:noindex
X-PUBLISHED-TTL:PT1H
BEGIN:VTIMEZONE
TZID:Europe/Madrid
BEGIN:DAYLIGHT
TZOFFSETFROM:+0100
TZOFFSETTO:+0200
TZNAME:CEST
DTSTART:20240331T010000
END:DAYLIGHT
BEGIN:STANDARD
TZOFFSETFROM:+0200
TZOFFSETTO:+0100
TZNAME:CET
DTSTART:20241027T010000
END:STANDARD
BEGIN:DAYLIGHT
TZOFFSETFROM:+0100
TZOFFSETTO:+0200
TZNAME:CEST
DTSTART:20250330T010000
END:DAYLIGHT
BEGIN:STANDARD
TZOFFSETFROM:+0200
TZOFFSETTO:+0100
TZNAME:CET
DTSTART:20251026T010000
END:STANDARD
BEGIN:DAYLIGHT
TZOFFSETFROM:+0100
TZOFFSETTO:+0200
TZNAME:CEST
DTSTART:20260329T010000
END:DAYLIGHT
BEGIN:STANDARD
TZOFFSETFROM:+0200
TZOFFSETTO:+0100
TZNAME:CET
DTSTART:20261025T010000
END:STANDARD
END:VTIMEZONE
BEGIN:VEVENT
DTSTART;VALUE=DATE:20250921
DTEND;VALUE=DATE:20250922
DTSTAMP:20260421T194649
CREATED:20250710T095834Z
LAST-MODIFIED:20250809T101531Z
UID:10000175-1758412800-1758499199@adnasturies.com
SUMMARY:DESAFÍO INTERCLUBES 595
DESCRIPTION:Modalidad: 595
URL:https://adnasturies.com/evento/desafio-interclubes-595-2/
LOCATION:Gijon\, Gijón\, Gijón\, Asturias\, 33201\, Spain
CATEGORIES:Deporte
ATTACH;FMTTYPE=image/jpeg:https://adnasturies.com/wp-content/uploads/2025/07/VELA.jpg
END:VEVENT
BEGIN:VEVENT
DTSTART;VALUE=DATE:20250921
DTEND;VALUE=DATE:20250922
DTSTAMP:20260421T194649
CREATED:20250710T094930Z
LAST-MODIFIED:20250809T101524Z
UID:10000166-1758412800-1758499199@adnasturies.com
SUMMARY:TROFEO DE OTOÑO SNIPE
DESCRIPTION:Modalidad: Snipe
URL:https://adnasturies.com/evento/trofeo-de-otono-snipe/
LOCATION:Gijon\, Gijón\, Gijón\, Asturias\, 33201\, Spain
CATEGORIES:Deporte
ATTACH;FMTTYPE=image/jpeg:https://adnasturies.com/wp-content/uploads/2025/07/VELA.jpg
END:VEVENT
BEGIN:VEVENT
DTSTART;VALUE=DATE:20250920
DTEND;VALUE=DATE:20250921
DTSTAMP:20260421T194649
CREATED:20250710T101829Z
LAST-MODIFIED:20250809T101438Z
UID:10000186-1758326400-1758412799@adnasturies.com
SUMMARY:XXIX TROFEO DE OTOÑO
DESCRIPTION:Modalidad: Crucero
URL:https://adnasturies.com/evento/xxix-trofeo-de-otono/
LOCATION:Gijon\, Gijón\, Gijón\, Asturias\, 33201\, Spain
CATEGORIES:Deporte
ATTACH;FMTTYPE=image/jpeg:https://adnasturies.com/wp-content/uploads/2025/07/VELA.jpg
END:VEVENT
BEGIN:VEVENT
DTSTART;VALUE=DATE:20250913
DTEND;VALUE=DATE:20250914
DTSTAMP:20260421T194649
CREATED:20250710T102413Z
LAST-MODIFIED:20250809T101241Z
UID:10000195-1757721600-1757807999@adnasturies.com
SUMMARY:MICRO MAGIC
DESCRIPTION:Modalidad: Radio Control IOM y MM
URL:https://adnasturies.com/evento/micro-magic-3/
LOCATION:Gijon\, Gijón\, Gijón\, Asturias\, 33201\, Spain
CATEGORIES:Deporte
ATTACH;FMTTYPE=image/jpeg:https://adnasturies.com/wp-content/uploads/2025/07/VELA.jpg
END:VEVENT
BEGIN:VEVENT
DTSTART;VALUE=DATE:20250906
DTEND;VALUE=DATE:20250908
DTSTAMP:20260421T194649
CREATED:20250710T101711Z
LAST-MODIFIED:20250809T101047Z
UID:10000185-1757116800-1757289599@adnasturies.com
SUMMARY:IV REGATA TRAVESÍA PUERTO DEPORTIVO DE GIJÓN
DESCRIPTION:Modalidad: Crucero
URL:https://adnasturies.com/evento/iv-regata-travesia-puerto-deportivo-de-gijon/
LOCATION:Gijon\, Gijón\, Gijón\, Asturias\, 33201\, Spain
CATEGORIES:Deporte
ATTACH;FMTTYPE=image/jpeg:https://adnasturies.com/wp-content/uploads/2025/07/VELA.jpg
END:VEVENT
BEGIN:VEVENT
DTSTART;VALUE=DATE:20250906
DTEND;VALUE=DATE:20250908
DTSTAMP:20260421T194649
CREATED:20250710T101608Z
LAST-MODIFIED:20250809T101041Z
UID:10000184-1757116800-1757289599@adnasturies.com
SUMMARY:XXXV REGATA VILLA DE GIJON - TROFEO EL COMERCIO
DESCRIPTION:Modalidad: Crucero
URL:https://adnasturies.com/evento/xxxv-regata-villa-de-gijon-trofeo-el-comercio/
LOCATION:Gijon\, Gijón\, Gijón\, Asturias\, 33201\, Spain
CATEGORIES:Deporte
ATTACH;FMTTYPE=image/jpeg:https://adnasturies.com/wp-content/uploads/2025/07/VELA.jpg
END:VEVENT
BEGIN:VEVENT
DTSTART;VALUE=DATE:20250830
DTEND;VALUE=DATE:20250901
DTSTAMP:20260421T194649
CREATED:20250710T094812Z
LAST-MODIFIED:20250809T100752Z
UID:10000165-1756512000-1756684799@adnasturies.com
SUMMARY:XII REGATA VILLA DE GIJÓN
DESCRIPTION:Modalidad: Multiclase
URL:https://adnasturies.com/evento/xii-regata-villa-de-gijon-2/
LOCATION:Gijon\, Gijón\, Gijón\, Asturias\, 33201\, Spain
CATEGORIES:Deporte
ATTACH;FMTTYPE=image/jpeg:https://adnasturies.com/wp-content/uploads/2025/07/VELA.jpg
END:VEVENT
BEGIN:VEVENT
DTSTART;VALUE=DATE:20250823
DTEND;VALUE=DATE:20250825
DTSTAMP:20260421T194649
CREATED:20250710T101539Z
LAST-MODIFIED:20250809T100632Z
UID:10000183-1755907200-1756079999@adnasturies.com
SUMMARY:XIV TROFEO PRESIDENTE
DESCRIPTION:Modalidad: Crucero
URL:https://adnasturies.com/evento/xiv-trofeo-presidente/
LOCATION:Gijon\, Gijón\, Gijón\, Asturias\, 33201\, Spain
CATEGORIES:Deporte
ATTACH;FMTTYPE=image/jpeg:https://adnasturies.com/wp-content/uploads/2025/07/VELA.jpg
END:VEVENT
BEGIN:VEVENT
DTSTART;VALUE=DATE:20250816
DTEND;VALUE=DATE:20250818
DTSTAMP:20260421T194649
CREATED:20250710T094721Z
LAST-MODIFIED:20250809T100435Z
UID:10000164-1755302400-1755475199@adnasturies.com
SUMMARY:XII REGATA VILLA DE GIJÓN
DESCRIPTION:Modalidad: Multiclase
URL:https://adnasturies.com/evento/xii-regata-villa-de-gijon/
LOCATION:Gijon\, Gijón\, Gijón\, Asturias\, 33201\, Spain
CATEGORIES:Deporte
ATTACH;FMTTYPE=image/jpeg:https://adnasturies.com/wp-content/uploads/2025/07/VELA.jpg
END:VEVENT
BEGIN:VEVENT
DTSTART;VALUE=DATE:20250810
DTEND;VALUE=DATE:20250811
DTSTAMP:20260421T194649
CREATED:20250710T102354Z
LAST-MODIFIED:20250809T100355Z
UID:10000194-1754784000-1754870399@adnasturies.com
SUMMARY:MICRO MAGIC
DESCRIPTION:Modalidad: Radio Control IOM y MM
URL:https://adnasturies.com/evento/micro-magic-2/
LOCATION:Gijon\, Gijón\, Gijón\, Asturias\, 33201\, Spain
CATEGORIES:Deporte
ATTACH;FMTTYPE=image/jpeg:https://adnasturies.com/wp-content/uploads/2025/07/VELA.jpg
END:VEVENT
BEGIN:VEVENT
DTSTART;VALUE=DATE:20250730
DTEND;VALUE=DATE:20250801
DTSTAMP:20260421T194649
CREATED:20250710T101507Z
LAST-MODIFIED:20250809T104411Z
UID:10000182-1753833600-1754006399@adnasturies.com
SUMMARY:V APROCHES
DESCRIPTION:Modalidad: Crucero
URL:https://adnasturies.com/evento/v-aproches/
LOCATION:Gijon\, Gijón\, Gijón\, Asturias\, 33201\, Spain
CATEGORIES:Deporte
ATTACH;FMTTYPE=image/jpeg:https://adnasturies.com/wp-content/uploads/2025/07/VELA.jpg
END:VEVENT
BEGIN:VEVENT
DTSTART;VALUE=DATE:20250727
DTEND;VALUE=DATE:20250728
DTSTAMP:20260421T194649
CREATED:20250710T102656Z
LAST-MODIFIED:20250809T104404Z
UID:10000201-1753574400-1753660799@adnasturies.com
SUMMARY:ONE METRE
DESCRIPTION:Modalidad: Radio Control IOM y MM
URL:https://adnasturies.com/evento/one-metre-4/
LOCATION:Gijon\, Gijón\, Gijón\, Asturias\, 33201\, Spain
CATEGORIES:Deporte
ATTACH;FMTTYPE=image/jpeg:https://adnasturies.com/wp-content/uploads/2025/07/VELA.jpg
END:VEVENT
BEGIN:VEVENT
DTSTART;VALUE=DATE:20250727
DTEND;VALUE=DATE:20250728
DTSTAMP:20260421T194649
CREATED:20250710T095510Z
LAST-MODIFIED:20250809T104356Z
UID:10000173-1753574400-1753660799@adnasturies.com
SUMMARY:DESAFÍO INTERCLUBES 595
DESCRIPTION:Modalidad: 595
URL:https://adnasturies.com/evento/desafio-interclubes-595/
LOCATION:Gijon\, Gijón\, Gijón\, Asturias\, 33201\, Spain
CATEGORIES:Deporte
ATTACH;FMTTYPE=image/jpeg:https://adnasturies.com/wp-content/uploads/2025/07/VELA.jpg
END:VEVENT
BEGIN:VEVENT
DTSTART;VALUE=DATE:20250719
DTEND;VALUE=DATE:20250721
DTSTAMP:20260421T194649
CREATED:20250710T093159Z
LAST-MODIFIED:20250809T104215Z
UID:10000161-1752883200-1753055999@adnasturies.com
SUMMARY:CAMPEONATO DE ASTURIAS SNIPE
DESCRIPTION:Modalidad: Snipe
URL:https://adnasturies.com/evento/campeonato-de-asturias-snipe/
LOCATION:Gijon\, Gijón\, Gijón\, Asturias\, 33201\, Spain
CATEGORIES:Deporte
ATTACH;FMTTYPE=image/jpeg:https://adnasturies.com/wp-content/uploads/2025/07/VELA.jpg
END:VEVENT
BEGIN:VEVENT
DTSTART;VALUE=DATE:20250712
DTEND;VALUE=DATE:20250714
DTSTAMP:20260421T194649
CREATED:20250710T093037Z
LAST-MODIFIED:20250809T103953Z
UID:10000160-1752278400-1752451199@adnasturies.com
SUMMARY:CAMPEONATO DE ASTURIAS LASER RADIAL
DESCRIPTION:Modalidad: Laser
URL:https://adnasturies.com/evento/campeonato-de-asturias-laser-radial/
LOCATION:Gijon\, Gijón\, Gijón\, Asturias\, 33201\, Spain
CATEGORIES:Deporte
ATTACH;FMTTYPE=image/jpeg:https://adnasturies.com/wp-content/uploads/2025/07/VELA.jpg
END:VEVENT
BEGIN:VEVENT
DTSTART;VALUE=DATE:20250712
DTEND;VALUE=DATE:20250713
DTSTAMP:20260421T194649
CREATED:20250710T102334Z
LAST-MODIFIED:20250809T103934Z
UID:10000193-1752278400-1752364799@adnasturies.com
SUMMARY:MICRO MAGIC
DESCRIPTION:Modalidad: Radio Control IOM y MM
URL:https://adnasturies.com/evento/micro-magic/
LOCATION:Gijon\, Gijón\, Gijón\, Asturias\, 33201\, Spain
CATEGORIES:Deporte
ATTACH;FMTTYPE=image/jpeg:https://adnasturies.com/wp-content/uploads/2025/07/VELA.jpg
END:VEVENT
END:VCALENDAR