BEGIN:VCALENDAR
VERSION:2.0
PRODID:-//adn. Asturies deporte y naturaleza - ECPv6.15.11//NONSGML v1.0//EN
CALSCALE:GREGORIAN
METHOD:PUBLISH
X-ORIGINAL-URL:https://adnasturies.com
X-WR-CALDESC:Eventos para adn. Asturies deporte y naturaleza
REFRESH-INTERVAL;VALUE=DURATION:PT1H
X-Robots-Tag:noindex
X-PUBLISHED-TTL:PT1H
BEGIN:VTIMEZONE
TZID:Europe/Madrid
BEGIN:DAYLIGHT
TZOFFSETFROM:+0100
TZOFFSETTO:+0200
TZNAME:CEST
DTSTART:20240331T010000
END:DAYLIGHT
BEGIN:STANDARD
TZOFFSETFROM:+0200
TZOFFSETTO:+0100
TZNAME:CET
DTSTART:20241027T010000
END:STANDARD
BEGIN:DAYLIGHT
TZOFFSETFROM:+0100
TZOFFSETTO:+0200
TZNAME:CEST
DTSTART:20250330T010000
END:DAYLIGHT
BEGIN:STANDARD
TZOFFSETFROM:+0200
TZOFFSETTO:+0100
TZNAME:CET
DTSTART:20251026T010000
END:STANDARD
BEGIN:DAYLIGHT
TZOFFSETFROM:+0100
TZOFFSETTO:+0200
TZNAME:CEST
DTSTART:20260329T010000
END:DAYLIGHT
BEGIN:STANDARD
TZOFFSETFROM:+0200
TZOFFSETTO:+0100
TZNAME:CET
DTSTART:20261025T010000
END:STANDARD
END:VTIMEZONE
BEGIN:VEVENT
DTSTART;VALUE=DATE:20251107
DTEND;VALUE=DATE:20251109
DTSTAMP:20260422T064044
CREATED:20250116T084700Z
LAST-MODIFIED:20250809T102510Z
UID:10000099-1762473600-1762646399@adnasturies.com
SUMMARY:Rally Ciudad de Langreo
DESCRIPTION:
URL:https://adnasturies.com/evento/rally-ciudad-de-langreo/
LOCATION:Langreo\, Spain
CATEGORIES:Deporte
END:VEVENT
BEGIN:VEVENT
DTSTART;VALUE=DATE:20251003
DTEND;VALUE=DATE:20251006
DTSTAMP:20260422T064044
CREATED:20250728T102454Z
LAST-MODIFIED:20250809T101811Z
UID:10000300-1759449600-1759708799@adnasturies.com
SUMMARY:Liga nacional de karate
DESCRIPTION:Categorías:  junior\, sub-21\, veteranos\, parakarate y Liga Iberdrola
URL:https://adnasturies.com/evento/liga-nacional-de-karate/
LOCATION:Langreo\, Spain
CATEGORIES:Deporte
ATTACH;FMTTYPE=image/jpeg:https://adnasturies.com/wp-content/uploads/2025/07/karate.jpg
END:VEVENT
END:VCALENDAR